BEGIN:VCALENDAR
VERSION:2.0
PRODID:-//jEvents 2.0 for Joomla//EN
CALSCALE:GREGORIAN
METHOD:PUBLISH
BEGIN:VTIMEZONE
TZID:Europe/Berlin
BEGIN:STANDARD
DTSTART:20241027T020000
RDATE:20250330T030000
TZOFFSETFROM:+0200
TZOFFSETTO:+0100
TZNAME:Europe/Berlin CET
END:STANDARD
BEGIN:STANDARD
DTSTART:20251026T020000
RDATE:20260329T030000
TZOFFSETFROM:+0200
TZOFFSETTO:+0100
TZNAME:Europe/Berlin CET
END:STANDARD
BEGIN:DAYLIGHT
DTSTART:20240530T170000
RDATE:20241027T020000
TZOFFSETFROM:+0100
TZOFFSETTO:+0200
TZNAME:Europe/Berlin CEST
END:DAYLIGHT
BEGIN:DAYLIGHT
DTSTART:20250330T030000
RDATE:20251026T020000
TZOFFSETFROM:+0100
TZOFFSETTO:+0200
TZNAME:Europe/Berlin CEST
END:DAYLIGHT
END:VTIMEZONE
BEGIN:VEVENT
UID:d2a8244952900f7b0f4525650f532a20
CATEGORIES:TSV 1860 München
CREATED:20250531T103249
SUMMARY:Haar/Grasbrunn - TSV 1860 3:0 (2:0)
LOCATION:Haar\, Höglweg 3
DESCRIPTION:<div>Letzter Spieltag in der Kreisliga 1 der Frauen zwischen dem Zweitplatz
 ierten Haar/Grasbrunn und dem Tabellenersten, dem TSV 1860 München. Gespiel
 t wird in Haar, Höglweg 3.&nbsp;</div>
CONTACT:ich
X-EXTRAINFO:xx
DTSTAMP:20260422T194444
DTSTART;TZID=Europe/Berlin:20250531T170000
DTEND;TZID=Europe/Berlin:20250531T190000
SEQUENCE:0
TRANSP:OPAQUE
END:VEVENT
END:VCALENDAR