BEGIN:VCALENDAR
VERSION:2.0
PRODID:-//jEvents 2.0 for Joomla//EN
CALSCALE:GREGORIAN
METHOD:PUBLISH
BEGIN:VTIMEZONE
TZID:Europe/Berlin
BEGIN:STANDARD
DTSTART:20241027T020000
RDATE:20250330T030000
TZOFFSETFROM:+0200
TZOFFSETTO:+0100
TZNAME:Europe/Berlin CET
END:STANDARD
BEGIN:STANDARD
DTSTART:20251026T020000
RDATE:20260329T030000
TZOFFSETFROM:+0200
TZOFFSETTO:+0100
TZNAME:Europe/Berlin CET
END:STANDARD
BEGIN:DAYLIGHT
DTSTART:20240814T210000
RDATE:20241027T020000
TZOFFSETFROM:+0100
TZOFFSETTO:+0200
TZNAME:Europe/Berlin CEST
END:DAYLIGHT
BEGIN:DAYLIGHT
DTSTART:20250330T030000
RDATE:20251026T020000
TZOFFSETFROM:+0100
TZOFFSETTO:+0200
TZNAME:Europe/Berlin CEST
END:DAYLIGHT
END:VTIMEZONE
BEGIN:VEVENT
UID:68578e4840167@2889.calovo
CATEGORIES:Liverpool
CREATED:20250708T130220
SUMMARY:LIV 4:2 (1:0) AFC Bournemouth
LOCATION:calovo.de | Anfield (Stadion)\, Liverpool\, England
DESCRIPTION:Liverpool FC 4:2 (1:0) AFC Bournemouth<br/><br/>Liverpool FC:<br/>Alisson B
 ecker, Ekitiké (72. Gomez), Frimpong (60. Endō), Gakpo, Kerkez (60. Roberts
 on), Konaté, Mac Allister (72. Jones), Salah, Szoboszlai, van Dijk, Wirtz (
 82. Chiesa)<br/><br/>AFC Bournemouth:<br/>Adams (90. Kroupi), Brooks (84. W
 interburn), Diakité, Petrović, Scott (74. Traorè), Semenyo, Senesi, Smith (
 90. Hill), Tavernier, Truffert, Evanilson<br/><br/>Tore:<br/>1:0 Ekitiké (3
 7.)<br/>2:0 Gakpo (49.)<br/>2:1 Semenyo (64.)<br/>2:2 Semenyo (76.)<br/>3:2
  Chiesa (88.)<br/>4:2 Salah (90.)<br/><br/><br/><br/><br/><br/>Anbieter-Imp
 ressum: <a href="http://calovo.de/impressum">http://calovo.de/impressum</a>
 <br/><br/><br/>calovo Kalender löschen? Anleitung: termine.de/ical/loeschen
DTSTAMP:20260422T230804
DTSTART;TZID=Europe/Berlin:20250815T210000
DTEND;TZID=Europe/Berlin:20250815T230000
SEQUENCE:0
TRANSP:OPAQUE
END:VEVENT
END:VCALENDAR