BEGIN:VCALENDAR
VERSION:2.0
PRODID:-//jEvents 2.0 for Joomla//EN
CALSCALE:GREGORIAN
METHOD:PUBLISH
BEGIN:VTIMEZONE
TZID:Europe/Berlin
BEGIN:STANDARD
DTSTART:20241027T020000
RDATE:20250330T030000
TZOFFSETFROM:+0200
TZOFFSETTO:+0100
TZNAME:Europe/Berlin CET
END:STANDARD
BEGIN:STANDARD
DTSTART:20251026T020000
RDATE:20260329T030000
TZOFFSETFROM:+0200
TZOFFSETTO:+0100
TZNAME:Europe/Berlin CET
END:STANDARD
BEGIN:DAYLIGHT
DTSTART:20240824T210000
RDATE:20241027T020000
TZOFFSETFROM:+0100
TZOFFSETTO:+0200
TZNAME:Europe/Berlin CEST
END:DAYLIGHT
BEGIN:DAYLIGHT
DTSTART:20250330T030000
RDATE:20251026T020000
TZOFFSETFROM:+0100
TZOFFSETTO:+0200
TZNAME:Europe/Berlin CEST
END:DAYLIGHT
END:VTIMEZONE
BEGIN:VEVENT
UID:68578e4b56dd0@2889.calovo
CATEGORIES:Liverpool
CREATED:20250708T130220
SUMMARY:Newcastle United 2:3 (0:1) LIV
LOCATION:calovo.de | St James Park (Stadion)\, Newcastle\, England
DESCRIPTION:Newcastle United 2:3 (0:1) Liverpool FC<br/><br/>Newcastle United:<br/>Barn
 es (76. Osula), Bruno Guimarães (76. Ramsey), Burn, Elanga, Gordon, Joelint
 on, Livramento, Pope, Schär (81. Thiaw), Tonali (66. Miley), Trippier (76. 
 Hall)<br/><br/>Liverpool FC:<br/>Alisson Becker, Ekitiké (80. Chiesa), Gakp
 o (90. Ngumoha), Gravenberch, Jones (90. Elliott), Kerkez, Konaté, Salah (9
 0. Endō), Szoboszlai, van Dijk, Wirtz (80. Bradley)<br/><br/>Tore:<br/>0:1 
 Gravenberch (35.)<br/>0:2 Ekitiké (46.)<br/>1:2 Bruno Guimarães (57.)<br/>2
 :2 Osula (88.)<br/>2:3 Ngumoha (90.)<br/><br/>AKTUELLE NEWS VON SPORT.DE<br
 /><br/> 	* Die Auslosung der Champions-League-Ligaphase im Blog <a href="ht
 tp://www.sport.de/n/0vUrz6px/">http://www.sport.de/n/0vUrz6px/</a> <br/><br
 /> <br/><br/><br/><br/><br/>Anbieter-Impressum: <a href="http://calovo.de/i
 mpressum">http://calovo.de/impressum</a><br/><br/><br/>calovo Kalender lösc
 hen? Anleitung: termine.de/ical/loeschen
DTSTAMP:20260422T194444
DTSTART;TZID=Europe/Berlin:20250825T210000
DTEND;TZID=Europe/Berlin:20250825T230000
SEQUENCE:0
TRANSP:OPAQUE
END:VEVENT
END:VCALENDAR