BEGIN:VCALENDAR
VERSION:2.0
PRODID:-//jEvents 2.0 for Joomla//EN
CALSCALE:GREGORIAN
METHOD:PUBLISH
BEGIN:VTIMEZONE
TZID:Europe/Berlin
BEGIN:STANDARD
DTSTART:20241027T020000
RDATE:20250330T030000
TZOFFSETFROM:+0200
TZOFFSETTO:+0100
TZNAME:Europe/Berlin CET
END:STANDARD
BEGIN:STANDARD
DTSTART:20251026T020000
RDATE:20260329T030000
TZOFFSETFROM:+0200
TZOFFSETTO:+0100
TZNAME:Europe/Berlin CET
END:STANDARD
BEGIN:DAYLIGHT
DTSTART:20240830T173000
RDATE:20241027T020000
TZOFFSETFROM:+0100
TZOFFSETTO:+0200
TZNAME:Europe/Berlin CEST
END:DAYLIGHT
BEGIN:DAYLIGHT
DTSTART:20250330T030000
RDATE:20251026T020000
TZOFFSETFROM:+0100
TZOFFSETTO:+0200
TZNAME:Europe/Berlin CEST
END:DAYLIGHT
END:VTIMEZONE
BEGIN:VEVENT
UID:68578e4c18ef6@2889.calovo
CATEGORIES:Liverpool
CREATED:20250708T130220
SUMMARY:LIV 1:0 (0:0) Arsenal FC
LOCATION:calovo.de | Anfield (Stadion)\, Liverpool\, England
DESCRIPTION:Liverpool FC 1:0 (0:0) Arsenal FC\n\nLiverpool FC:\nAlisson Becker, Ekitiké
  (79. Chiesa), Gakpo, Gravenberch, Kerkez, Konaté (79. Gomez), Mac Allister
  (62. Jones), Salah, Szoboszlai, van Dijk, Wirtz (89. Endō)\n\nArsenal FC:\
 nCalafiori, David Raya, Gabriel Magalhães, Gabriel Martinelli (70. Eze), Gy
 ökeres, Madueke (89. Dowman), Martín Zubimendi, Mikel Merino (70. Ødegaard)
 , Rice, Saliba (5. Cristhian Mosquera), Timber\n\nTore:\n1:0 Szoboszlai (83
 .)\n\nAKTUELLE NEWS VON SPORT.DE\n\n 	* Zwei weitere Top-Klubs an Bayern-Su
 perstar dran http://www.sport.de/n/WmU9q4ZY/ (http://www.sport.de/n/WmU9q4Z
 Y/) \n\n \n\n\n\n\nAnbieter-Impressum: http://calovo.de/impressum (http://c
 alovo.de/impressum)\n\n\ncalovo Kalender löschen? Anleitung: termine.de/ica
 l/loeschen
X-ALT-DESC;FMTTYPE=text/html:Liverpool FC 1:0 (0:0) Arsenal FC<br/><br/>Liverpool FC:<br/>Alisson Becker
 , Ekitiké (79. Chiesa), Gakpo, Gravenberch, Kerkez, Konaté (79. Gomez), Mac
  Allister (62. Jones), Salah, Szoboszlai, van Dijk, Wirtz (89. Endō)<br/><b
 r/>Arsenal FC:<br/>Calafiori, David Raya, Gabriel Magalhães, Gabriel Martin
 elli (70. Eze), Gyökeres, Madueke (89. Dowman), Martín Zubimendi, Mikel Mer
 ino (70. Ødegaard), Rice, Saliba (5. Cristhian Mosquera), Timber<br/><br/>T
 ore:<br/>1:0 Szoboszlai (83.)<br/><br/>AKTUELLE NEWS VON SPORT.DE<br/><br/>
  	* Zwei weitere Top-Klubs an Bayern-Superstar dran <a href="http://www.spo
 rt.de/n/WmU9q4ZY/">http://www.sport.de/n/WmU9q4ZY/</a> <br/><br/> <br/><br/
 ><br/><br/><br/>Anbieter-Impressum: <a href="http://calovo.de/impressum">ht
 tp://calovo.de/impressum</a><br/><br/><br/>calovo Kalender löschen? Anleitu
 ng: termine.de/ical/loeschen
DTSTAMP:20260422T194440
DTSTART;TZID=Europe/Berlin:20250831T173000
DTEND;TZID=Europe/Berlin:20250831T193000
SEQUENCE:0
TRANSP:OPAQUE
END:VEVENT
END:VCALENDAR