BEGIN:VCALENDAR
VERSION:2.0
PRODID:-//jEvents 2.0 for Joomla//EN
CALSCALE:GREGORIAN
METHOD:PUBLISH
BEGIN:VTIMEZONE
TZID:Europe/Berlin
BEGIN:STANDARD
DTSTART:20241027T020000
RDATE:20250330T030000
TZOFFSETFROM:+0200
TZOFFSETTO:+0100
TZNAME:Europe/Berlin CET
END:STANDARD
BEGIN:STANDARD
DTSTART:20251026T020000
RDATE:20260329T030000
TZOFFSETFROM:+0200
TZOFFSETTO:+0100
TZNAME:Europe/Berlin CET
END:STANDARD
BEGIN:DAYLIGHT
DTSTART:20240913T150000
RDATE:20241027T020000
TZOFFSETFROM:+0100
TZOFFSETTO:+0200
TZNAME:Europe/Berlin CEST
END:DAYLIGHT
BEGIN:DAYLIGHT
DTSTART:20250330T030000
RDATE:20251026T020000
TZOFFSETFROM:+0100
TZOFFSETTO:+0200
TZNAME:Europe/Berlin CEST
END:DAYLIGHT
END:VTIMEZONE
BEGIN:VEVENT
UID:68578e4d579f2@2889.calovo
CATEGORIES:Liverpool
CREATED:20250708T130220
SUMMARY:Burnley FC 0:1 (0:0) LIV
LOCATION:calovo.de | Turf Moor (Stadion)\, Burnley\, England
DESCRIPTION:Burnley FC 0:1 (0:0) Liverpool FC\n\nBurnley FC:\nAnthony (89. Broja), Cull
 en (63. Florentino), Dúbravka, Ekdal, Estève, Foster (86. Worrall), Hartman
 , Laurent, Tchaouna (63. Mejbri), Ugochukwu, Walker\n\nLiverpool FC:\nAliss
 on Becker, Ekitiké (72. Chiesa), Gakpo, Gravenberch, Kerkez (38. Robertson)
 , Konaté (87. Ngumoha), Mac Allister (46. Bradley), Salah, Szoboszlai, van 
 Dijk, Wirtz (87. Frimpong)\n\nTore:\n0:1 Salah (90.)\n\nAKTUELLE NEWS VON S
 PORT.DE\n\n 	* ManCity spielte Rolle bei Diaz-Transfer zum FC Bayern http:/
 /www.sport.de/n/azU83xYk/ (http://www.sport.de/n/azU83xYk/) \n\n \n\n\n\n\n
 Anbieter-Impressum: http://calovo.de/impressum (http://calovo.de/impressum)
 \n\n\ncalovo Kalender löschen? Anleitung: termine.de/ical/loeschen
X-ALT-DESC;FMTTYPE=text/html:Burnley FC 0:1 (0:0) Liverpool FC<br/><br/>Burnley FC:<br/>Anthony (89. Bro
 ja), Cullen (63. Florentino), Dúbravka, Ekdal, Estève, Foster (86. Worrall)
 , Hartman, Laurent, Tchaouna (63. Mejbri), Ugochukwu, Walker<br/><br/>Liver
 pool FC:<br/>Alisson Becker, Ekitiké (72. Chiesa), Gakpo, Gravenberch, Kerk
 ez (38. Robertson), Konaté (87. Ngumoha), Mac Allister (46. Bradley), Salah
 , Szoboszlai, van Dijk, Wirtz (87. Frimpong)<br/><br/>Tore:<br/>0:1 Salah (
 90.)<br/><br/>AKTUELLE NEWS VON SPORT.DE<br/><br/> 	* ManCity spielte Rolle
  bei Diaz-Transfer zum FC Bayern <a href="http://www.sport.de/n/azU83xYk/">
 http://www.sport.de/n/azU83xYk/</a> <br/><br/> <br/><br/><br/><br/><br/>Anb
 ieter-Impressum: <a href="http://calovo.de/impressum">http://calovo.de/impr
 essum</a><br/><br/><br/>calovo Kalender löschen? Anleitung: termine.de/ical
 /loeschen
DTSTAMP:20260422T194342
DTSTART;TZID=Europe/Berlin:20250914T150000
DTEND;TZID=Europe/Berlin:20250914T170000
SEQUENCE:0
TRANSP:OPAQUE
END:VEVENT
END:VCALENDAR