BEGIN:VCALENDAR
VERSION:2.0
PRODID:-//jEvents 2.0 for Joomla//EN
CALSCALE:GREGORIAN
METHOD:PUBLISH
BEGIN:VTIMEZONE
TZID:Europe/Berlin
BEGIN:STANDARD
DTSTART:20241027T020000
RDATE:20250330T030000
TZOFFSETFROM:+0200
TZOFFSETTO:+0100
TZNAME:Europe/Berlin CET
END:STANDARD
BEGIN:STANDARD
DTSTART:20251026T020000
RDATE:20260329T030000
TZOFFSETFROM:+0200
TZOFFSETTO:+0100
TZNAME:Europe/Berlin CET
END:STANDARD
BEGIN:DAYLIGHT
DTSTART:20240919T133000
RDATE:20241027T020000
TZOFFSETFROM:+0100
TZOFFSETTO:+0200
TZNAME:Europe/Berlin CEST
END:DAYLIGHT
BEGIN:DAYLIGHT
DTSTART:20250330T030000
RDATE:20251026T020000
TZOFFSETFROM:+0100
TZOFFSETTO:+0200
TZNAME:Europe/Berlin CEST
END:DAYLIGHT
END:VTIMEZONE
BEGIN:VEVENT
UID:68578e4f006cf@2889.calovo
CATEGORIES:Liverpool
CREATED:20250708T130220
SUMMARY:LIV 2:1 (2:0) Everton FC
LOCATION:calovo.de | Anfield (Stadion)\, Liverpool\, England
DESCRIPTION:Liverpool FC 2:1 (2:0) Everton FC<br/><br/>Liverpool FC:<br/>Alisson Becker
 , Bradley, Ekitiké (67. Isak), Gakpo (61. Wirtz), Gravenberch, Kerkez, Kona
 té, Mac Allister (61. Jones), Salah, Szoboszlai, van Dijk<br/><br/>Everton 
 FC:<br/>Beto (46. Barry), Dewsbury-Hall, Garner, Grealish, Gueye, Keane, My
 kolenko (86. Dibling), Ndiaye (86. Alcaraz), OBrien, Pickford, Tarkowski<br
 /><br/>Tore:<br/>1:0 Gravenberch (10.)<br/>2:0 Ekitiké (29.)<br/>2:1 Gueye 
 (58.)<br/><br/>AKTUELLE NEWS VON SPORT.DE<br/><br/> 	* Hamann-Warnung an de
 n FC Liverpool <a href="http://www.sport.de/n/ZbUMoAkp/">http://www.sport.d
 e/n/ZbUMoAkp/</a> <br/><br/> <br/><br/><br/><br/><br/>Anbieter-Impressum: <
 a href="http://calovo.de/impressum">http://calovo.de/impressum</a><br/><br/
 ><br/>calovo Kalender löschen? Anleitung: termine.de/ical/loeschen
DTSTAMP:20260422T194444
DTSTART;TZID=Europe/Berlin:20250920T133000
DTEND;TZID=Europe/Berlin:20250920T153000
SEQUENCE:0
TRANSP:OPAQUE
END:VEVENT
END:VCALENDAR