BEGIN:VCALENDAR
VERSION:2.0
PRODID:-//jEvents 2.0 for Joomla//EN
CALSCALE:GREGORIAN
METHOD:PUBLISH
BEGIN:VTIMEZONE
TZID:Europe/Berlin
BEGIN:STANDARD
DTSTART:20241027T020000
RDATE:20250330T030000
TZOFFSETFROM:+0200
TZOFFSETTO:+0100
TZNAME:Europe/Berlin CET
END:STANDARD
BEGIN:STANDARD
DTSTART:20251026T020000
RDATE:20260329T030000
TZOFFSETFROM:+0200
TZOFFSETTO:+0100
TZNAME:Europe/Berlin CET
END:STANDARD
BEGIN:DAYLIGHT
DTSTART:20240926T160000
RDATE:20241027T020000
TZOFFSETFROM:+0100
TZOFFSETTO:+0200
TZNAME:Europe/Berlin CEST
END:DAYLIGHT
BEGIN:DAYLIGHT
DTSTART:20250330T030000
RDATE:20251026T020000
TZOFFSETFROM:+0100
TZOFFSETTO:+0200
TZNAME:Europe/Berlin CEST
END:DAYLIGHT
END:VTIMEZONE
BEGIN:VEVENT
UID:68578e4fc7e8b@2889.calovo
CATEGORIES:Liverpool
CREATED:20250708T130220
SUMMARY:Crystal Palace 2:1 (1:0) LIV
LOCATION:calovo.de | Selhurst Park (Stadion)\, London\, England
DESCRIPTION:Crystal Palace 2:1 (1:0) Liverpool FC\n\nCrystal Palace:\nGuéhi, Henderson,
  Kamada (90. Devenny), Lacroix, Mateta, Mitchell, Muñoz, Richards, Sarr (75
 . Nketiah), Wharton (62. Hughes), Yéremy Pino (74. Lerma)\n\nLiverpool FC:\
 nAlisson Becker, Bradley (46. Gakpo), Gravenberch, Isak (84. Ngumoha), Kerk
 ez, Konaté (74. Frimpong), Mac Allister (65. Jones), Salah, Szoboszlai, van
  Dijk, Wirtz (74. Chiesa)\n\nTore:\n1:0 Sarr (9.)\n1:1 Chiesa (87.)\n2:1 Nk
 etiah (90.)\n\nAKTUELLE NEWS VON SPORT.DE\n\n 	* Ex-SGE-Star Ekitiké vom FC
  Liverpool knallhart bestraft http://www.sport.de/n/OXUgZnOx/ (http://www.s
 port.de/n/OXUgZnOx/) \n\n \n\n\n\n\nAnbieter-Impressum: http://calovo.de/im
 pressum (http://calovo.de/impressum)\n\n\ncalovo Kalender löschen? Anleitun
 g: termine.de/ical/loeschen
X-ALT-DESC;FMTTYPE=text/html:Crystal Palace 2:1 (1:0) Liverpool FC<br/><br/>Crystal Palace:<br/>Guéhi, H
 enderson, Kamada (90. Devenny), Lacroix, Mateta, Mitchell, Muñoz, Richards,
  Sarr (75. Nketiah), Wharton (62. Hughes), Yéremy Pino (74. Lerma)<br/><br/
 >Liverpool FC:<br/>Alisson Becker, Bradley (46. Gakpo), Gravenberch, Isak (
 84. Ngumoha), Kerkez, Konaté (74. Frimpong), Mac Allister (65. Jones), Sala
 h, Szoboszlai, van Dijk, Wirtz (74. Chiesa)<br/><br/>Tore:<br/>1:0 Sarr (9.
 )<br/>1:1 Chiesa (87.)<br/>2:1 Nketiah (90.)<br/><br/>AKTUELLE NEWS VON SPO
 RT.DE<br/><br/> 	* Ex-SGE-Star Ekitiké vom FC Liverpool knallhart bestraft 
 <a href="http://www.sport.de/n/OXUgZnOx/">http://www.sport.de/n/OXUgZnOx/</
 a> <br/><br/> <br/><br/><br/><br/><br/>Anbieter-Impressum: <a href="http://
 calovo.de/impressum">http://calovo.de/impressum</a><br/><br/><br/>calovo Ka
 lender löschen? Anleitung: termine.de/ical/loeschen
DTSTAMP:20260422T213631
DTSTART;TZID=Europe/Berlin:20250927T160000
DTEND;TZID=Europe/Berlin:20250927T180000
SEQUENCE:0
TRANSP:OPAQUE
END:VEVENT
END:VCALENDAR