BEGIN:VCALENDAR
VERSION:2.0
PRODID:-//jEvents 2.0 for Joomla//EN
CALSCALE:GREGORIAN
METHOD:PUBLISH
BEGIN:VTIMEZONE
TZID:Europe/Berlin
BEGIN:STANDARD
DTSTART:20241027T020000
RDATE:20250330T030000
TZOFFSETFROM:+0200
TZOFFSETTO:+0100
TZNAME:Europe/Berlin CET
END:STANDARD
BEGIN:STANDARD
DTSTART:20251026T020000
RDATE:20260329T030000
TZOFFSETFROM:+0200
TZOFFSETTO:+0100
TZNAME:Europe/Berlin CET
END:STANDARD
BEGIN:DAYLIGHT
DTSTART:20241003T183000
RDATE:20241027T020000
TZOFFSETFROM:+0100
TZOFFSETTO:+0200
TZNAME:Europe/Berlin CEST
END:DAYLIGHT
BEGIN:DAYLIGHT
DTSTART:20250330T030000
RDATE:20251026T020000
TZOFFSETFROM:+0100
TZOFFSETTO:+0200
TZNAME:Europe/Berlin CEST
END:DAYLIGHT
END:VTIMEZONE
BEGIN:VEVENT
UID:68578e5183055@2889.calovo
CATEGORIES:Liverpool
CREATED:20250708T130220
SUMMARY:Chelsea FC 2:1 (1:0) LIV
LOCATION:calovo.de | Stamford Bridge (Stadion)\, London\, England
DESCRIPTION:Chelsea FC 2:1 (1:0) Liverpool FC\n\nChelsea FC:\nAcheampong (68. Hato), Ba
 diashile (55. Lavia), Caicedo, Cucurella, Fernández, Garnacho (75. Gittens)
 , Gusto, James, João Pedro (74. Marc Guiu), Pedro Neto (75. Estêvão), Rober
 t Sánchez\n\nLiverpool FC:\nBradley (46. Wirtz), Gakpo, Gravenberch, Isak (
 74. Ekitiké), Kerkez (55. Robertson), Konaté (56. Jones), Mac Allister (86.
  Endō), Mamardashvili, Salah, Szoboszlai, van Dijk\n\nTore:\n1:0 Caicedo (1
 4.)\n1:1 Gakpo (63.)\n2:1 Estêvão (90.)\n\nAKTUELLE NEWS VON SPORT.DE\n\n 	
 * Legende stellt pikante Wirtz-Frage http://www.sport.de/n/B7UBXWad/ (http:
 //www.sport.de/n/B7UBXWad/) \n\n \n\n\n\n\nAnbieter-Impressum: http://calov
 o.de/impressum (http://calovo.de/impressum)\n\n\ncalovo Kalender löschen? A
 nleitung: termine.de/ical/loeschen
X-ALT-DESC;FMTTYPE=text/html:Chelsea FC 2:1 (1:0) Liverpool FC<br/><br/>Chelsea FC:<br/>Acheampong (68. 
 Hato), Badiashile (55. Lavia), Caicedo, Cucurella, Fernández, Garnacho (75.
  Gittens), Gusto, James, João Pedro (74. Marc Guiu), Pedro Neto (75. Estêvã
 o), Robert Sánchez<br/><br/>Liverpool FC:<br/>Bradley (46. Wirtz), Gakpo, G
 ravenberch, Isak (74. Ekitiké), Kerkez (55. Robertson), Konaté (56. Jones),
  Mac Allister (86. Endō), Mamardashvili, Salah, Szoboszlai, van Dijk<br/><b
 r/>Tore:<br/>1:0 Caicedo (14.)<br/>1:1 Gakpo (63.)<br/>2:1 Estêvão (90.)<br
 /><br/>AKTUELLE NEWS VON SPORT.DE<br/><br/> 	* Legende stellt pikante Wirtz
 -Frage <a href="http://www.sport.de/n/B7UBXWad/">http://www.sport.de/n/B7UB
 XWad/</a> <br/><br/> <br/><br/><br/><br/><br/>Anbieter-Impressum: <a href="
 http://calovo.de/impressum">http://calovo.de/impressum</a><br/><br/><br/>ca
 lovo Kalender löschen? Anleitung: termine.de/ical/loeschen
DTSTAMP:20260422T194439
DTSTART;TZID=Europe/Berlin:20251004T183000
DTEND;TZID=Europe/Berlin:20251004T203000
SEQUENCE:0
TRANSP:OPAQUE
END:VEVENT
END:VCALENDAR