BEGIN:VCALENDAR
VERSION:2.0
PRODID:-//jEvents 2.0 for Joomla//EN
CALSCALE:GREGORIAN
METHOD:PUBLISH
BEGIN:VTIMEZONE
TZID:Europe/Berlin
BEGIN:STANDARD
DTSTART:20241027T020000
RDATE:20250330T030000
TZOFFSETFROM:+0200
TZOFFSETTO:+0100
TZNAME:Europe/Berlin CET
END:STANDARD
BEGIN:STANDARD
DTSTART:20251026T020000
RDATE:20260329T030000
TZOFFSETFROM:+0200
TZOFFSETTO:+0100
TZNAME:Europe/Berlin CET
END:STANDARD
BEGIN:DAYLIGHT
DTSTART:20241024T210000
RDATE:20241027T020000
TZOFFSETFROM:+0100
TZOFFSETTO:+0200
TZNAME:Europe/Berlin CEST
END:DAYLIGHT
BEGIN:DAYLIGHT
DTSTART:20250330T030000
RDATE:20251026T020000
TZOFFSETFROM:+0100
TZOFFSETTO:+0200
TZNAME:Europe/Berlin CEST
END:DAYLIGHT
END:VTIMEZONE
BEGIN:VEVENT
UID:68578e5416952@2889.calovo
CATEGORIES:Liverpool
CREATED:20250708T130220
SUMMARY:Brentford FC 3:2 (2:1) LIV
LOCATION:calovo.de | Gtech Community Stadium (Stadion)\, Brentford\, England
DESCRIPTION:Brentford FC 3:2 (2:1) Liverpool FC\n\nBrentford FC:\nKelleher, van den Ber
 g, Henderson, Schade (79. Lewis-Potter), Thiago, Yarmolyuk (29. Janelt), Ou
 attara (90. Onyeka), Ajer (90. Henry), Collins, Damsgaard (79. Jensen), Kay
 ode\n\nLiverpool FC:\nvan Dijk, Konaté, Kerkez (61. Robertson), Wirtz (83. 
 Gomez), Szoboszlai, Salah, Bradley (62. Mac Allister), Jones (70. Ngumoha),
  Gakpo (61. Chiesa), Ekitiké, Mamardashvili\n\nTore:\n1:0 Ouattara (5.)\n2:
 0 Schade (45.)\n2:1 Kerkez (45.)\n3:1 Thiago (60.)\n3:2 Salah (89.)\n\n\n\n
 \n\nAnbieter-Impressum: http://calovo.de/impressum (http://calovo.de/impres
 sum)\n\n\ncalovo Kalender löschen? Anleitung: termine.de/ical/loeschen
X-ALT-DESC;FMTTYPE=text/html:Brentford FC 3:2 (2:1) Liverpool FC<br/><br/>Brentford FC:<br/>Kelleher, va
 n den Berg, Henderson, Schade (79. Lewis-Potter), Thiago, Yarmolyuk (29. Ja
 nelt), Ouattara (90. Onyeka), Ajer (90. Henry), Collins, Damsgaard (79. Jen
 sen), Kayode<br/><br/>Liverpool FC:<br/>van Dijk, Konaté, Kerkez (61. Rober
 tson), Wirtz (83. Gomez), Szoboszlai, Salah, Bradley (62. Mac Allister), Jo
 nes (70. Ngumoha), Gakpo (61. Chiesa), Ekitiké, Mamardashvili<br/><br/>Tore
 :<br/>1:0 Ouattara (5.)<br/>2:0 Schade (45.)<br/>2:1 Kerkez (45.)<br/>3:1 T
 hiago (60.)<br/>3:2 Salah (89.)<br/><br/><br/><br/><br/><br/>Anbieter-Impre
 ssum: <a href="http://calovo.de/impressum">http://calovo.de/impressum</a><b
 r/><br/><br/>calovo Kalender löschen? Anleitung: termine.de/ical/loeschen
DTSTAMP:20260422T194342
DTSTART;TZID=Europe/Berlin:20251025T210000
DTEND;TZID=Europe/Berlin:20251025T230000
SEQUENCE:0
TRANSP:OPAQUE
END:VEVENT
END:VCALENDAR