BEGIN:VCALENDAR
VERSION:2.0
PRODID:-//jEvents 2.0 for Joomla//EN
CALSCALE:GREGORIAN
METHOD:PUBLISH
BEGIN:VTIMEZONE
TZID:Europe/Berlin
BEGIN:STANDARD
DTSTART:20241031T210000
RDATE:20250330T030000
TZOFFSETFROM:+0200
TZOFFSETTO:+0100
TZNAME:Europe/Berlin CET
END:STANDARD
BEGIN:STANDARD
DTSTART:20251026T020000
RDATE:20260329T030000
TZOFFSETFROM:+0200
TZOFFSETTO:+0100
TZNAME:Europe/Berlin CET
END:STANDARD
BEGIN:DAYLIGHT
DTSTART:20250330T030000
RDATE:20251026T020000
TZOFFSETFROM:+0100
TZOFFSETTO:+0200
TZNAME:Europe/Berlin CEST
END:DAYLIGHT
END:VTIMEZONE
BEGIN:VEVENT
UID:68578e5591eab@2889.calovo
CATEGORIES:Liverpool
CREATED:20250708T130220
SUMMARY:LIV 2:0 (1:0) Aston Villa
LOCATION:calovo.de | Anfield (Stadion)\, Liverpool\, England
DESCRIPTION:Liverpool FC 2:0 (1:0) Aston Villa\n\nLiverpool FC:\nBradley, Ekitiké (77. 
 Wirtz), Gakpo, Gravenberch, Konaté, Mac Allister, Mamardashvili, Robertson,
  Salah, Szoboszlai, van Dijk\n\nAston Villa:\nCash, Digne (75. Maatsen), Gu
 essand (59. Malen), Kamara, Konsa, Martínez, McGinn (59. Barkley), Onana, P
 au Torres (75. Mings), Rogers, Watkins (75. Sancho)\n\nTore:\n1:0 Salah (45
 .)\n2:0 Gravenberch (58.)\n\nAKTUELLE NEWS VON SPORT.DE\n\n 	* Medien: Top-
 Trio scharf auf Schlotterbeck http://www.sport.de/n/YzUb2GX0/ (http://www.s
 port.de/n/YzUb2GX0/) \n\n \n\n\n\n\nAnbieter-Impressum: http://calovo.de/im
 pressum (http://calovo.de/impressum)\n\n\ncalovo Kalender löschen? Anleitun
 g: termine.de/ical/loeschen
X-ALT-DESC;FMTTYPE=text/html:Liverpool FC 2:0 (1:0) Aston Villa<br/><br/>Liverpool FC:<br/>Bradley, Ekit
 iké (77. Wirtz), Gakpo, Gravenberch, Konaté, Mac Allister, Mamardashvili, R
 obertson, Salah, Szoboszlai, van Dijk<br/><br/>Aston Villa:<br/>Cash, Digne
  (75. Maatsen), Guessand (59. Malen), Kamara, Konsa, Martínez, McGinn (59. 
 Barkley), Onana, Pau Torres (75. Mings), Rogers, Watkins (75. Sancho)<br/><
 br/>Tore:<br/>1:0 Salah (45.)<br/>2:0 Gravenberch (58.)<br/><br/>AKTUELLE N
 EWS VON SPORT.DE<br/><br/> 	* Medien: Top-Trio scharf auf Schlotterbeck <a 
 href="http://www.sport.de/n/YzUb2GX0/">http://www.sport.de/n/YzUb2GX0/</a> 
 <br/><br/> <br/><br/><br/><br/><br/>Anbieter-Impressum: <a href="http://cal
 ovo.de/impressum">http://calovo.de/impressum</a><br/><br/><br/>calovo Kalen
 der löschen? Anleitung: termine.de/ical/loeschen
DTSTAMP:20260422T212758
DTSTART;TZID=Europe/Berlin:20251101T210000
DTEND;TZID=Europe/Berlin:20251101T230000
SEQUENCE:0
TRANSP:OPAQUE
END:VEVENT
END:VCALENDAR