BEGIN:VCALENDAR
VERSION:2.0
PRODID:-//jEvents 2.0 for Joomla//EN
CALSCALE:GREGORIAN
METHOD:PUBLISH
BEGIN:VTIMEZONE
TZID:Europe/Berlin
BEGIN:STANDARD
DTSTART:20241108T173000
RDATE:20250330T030000
TZOFFSETFROM:+0200
TZOFFSETTO:+0100
TZNAME:Europe/Berlin CET
END:STANDARD
BEGIN:STANDARD
DTSTART:20251026T020000
RDATE:20260329T030000
TZOFFSETFROM:+0200
TZOFFSETTO:+0100
TZNAME:Europe/Berlin CET
END:STANDARD
BEGIN:DAYLIGHT
DTSTART:20250330T030000
RDATE:20251026T020000
TZOFFSETFROM:+0100
TZOFFSETTO:+0200
TZNAME:Europe/Berlin CEST
END:DAYLIGHT
END:VTIMEZONE
BEGIN:VEVENT
UID:68578e571e506@2889.calovo
CATEGORIES:Liverpool
CREATED:20250708T130220
SUMMARY:Manchester City 3:0 (2:0) LIV
LOCATION:calovo.de | Etihad Stadium (Stadion)\, Manchester\, England
DESCRIPTION:Manchester City 3:0 (2:0) Liverpool FC\n\nManchester City:\nBernardo Silva,
  Cherki (53. Sávinho), Doku (74. Marmoush), Donnarumma, Foden, Gvardiol, Ha
 aland, Matheus Nunes, Nico González, OReilly, Rúben Dias\n\nLiverpool FC:\n
 Bradley (83. Gomez), Ekitiké (56. Gakpo), Gravenberch, Konaté, Mac Allister
  (74. Jones), Mamardashvili, Robertson (56. Kerkez), Salah, Szoboszlai, van
  Dijk, Wirtz (83. Chiesa)\n\nTore:\n1:0 Haaland (29.)\n2:0 Nico González (4
 5.)\n3:0 Doku (63.)\n\nAKTUELLE NEWS VON SPORT.DE\n\n 	* Papa Wirtz: Floria
 ns Zeit in Liverpool kommt http://www.sport.de/n/0vUxGjR7/ (http://www.spor
 t.de/n/0vUxGjR7/) \n\n \n\n\n\n\nAnbieter-Impressum: http://calovo.de/impre
 ssum (http://calovo.de/impressum)\n\n\ncalovo Kalender löschen? Anleitung: 
 termine.de/ical/loeschen
X-ALT-DESC;FMTTYPE=text/html:Manchester City 3:0 (2:0) Liverpool FC<br/><br/>Manchester City:<br/>Bernar
 do Silva, Cherki (53. Sávinho), Doku (74. Marmoush), Donnarumma, Foden, Gva
 rdiol, Haaland, Matheus Nunes, Nico González, OReilly, Rúben Dias<br/><br/>
 Liverpool FC:<br/>Bradley (83. Gomez), Ekitiké (56. Gakpo), Gravenberch, Ko
 naté, Mac Allister (74. Jones), Mamardashvili, Robertson (56. Kerkez), Sala
 h, Szoboszlai, van Dijk, Wirtz (83. Chiesa)<br/><br/>Tore:<br/>1:0 Haaland 
 (29.)<br/>2:0 Nico González (45.)<br/>3:0 Doku (63.)<br/><br/>AKTUELLE NEWS
  VON SPORT.DE<br/><br/> 	* Papa Wirtz: Florians Zeit in Liverpool kommt <a 
 href="http://www.sport.de/n/0vUxGjR7/">http://www.sport.de/n/0vUxGjR7/</a> 
 <br/><br/> <br/><br/><br/><br/><br/>Anbieter-Impressum: <a href="http://cal
 ovo.de/impressum">http://calovo.de/impressum</a><br/><br/><br/>calovo Kalen
 der löschen? Anleitung: termine.de/ical/loeschen
DTSTAMP:20260422T194342
DTSTART;TZID=Europe/Berlin:20251109T173000
DTEND;TZID=Europe/Berlin:20251109T193000
SEQUENCE:0
TRANSP:OPAQUE
END:VEVENT
END:VCALENDAR