BEGIN:VCALENDAR
VERSION:2.0
PRODID:-//jEvents 2.0 for Joomla//EN
CALSCALE:GREGORIAN
METHOD:PUBLISH
BEGIN:VTIMEZONE
TZID:Europe/Berlin
BEGIN:STANDARD
DTSTART:20241121T160000
RDATE:20250330T030000
TZOFFSETFROM:+0200
TZOFFSETTO:+0100
TZNAME:Europe/Berlin CET
END:STANDARD
BEGIN:STANDARD
DTSTART:20251026T020000
RDATE:20260329T030000
TZOFFSETFROM:+0200
TZOFFSETTO:+0100
TZNAME:Europe/Berlin CET
END:STANDARD
BEGIN:DAYLIGHT
DTSTART:20250330T030000
RDATE:20251026T020000
TZOFFSETFROM:+0100
TZOFFSETTO:+0200
TZNAME:Europe/Berlin CEST
END:DAYLIGHT
END:VTIMEZONE
BEGIN:VEVENT
UID:68578e58415fc@2889.calovo
CATEGORIES:Liverpool
CREATED:20250708T130220
SUMMARY:LIV 0:3 (0:1) Nottingham Forest
LOCATION:calovo.de | Anfield (Stadion)\, Liverpool\, England
DESCRIPTION:Liverpool FC 0:3 (0:1) Nottingham Forest\n\nLiverpool FC:\nAlisson Becker, 
 Gakpo, Gravenberch, Isak (68. Chiesa), Jones (78. Ngumoha), Kerkez (68. Rob
 ertson), Konaté (55. Ekitiké), Mac Allister, Salah, Szoboszlai, van Dijk\n\
 nNottingham Forest:\nAnderson, Domínguez (61. Hutchinson), Gibbs-White, Igo
 r Jesus (86. Yates), Milenković, Murillo, Ndoye (86. Hudson-Odoi), Sangaré,
  Savona, Sels, Williams\n\nTore:\n0:1 Murillo (33.)\n0:2 Savona (46.)\n0:3 
 Gibbs-White (78.)\n\nAKTUELLE NEWS VON SPORT.DE\n\n 	* Ärgert der FC Liverp
 ool den FC Bayern? http://www.sport.de/n/KXUB7Rv2/ (http://www.sport.de/n/K
 XUB7Rv2/) \n\n \n\n\n\n\nAnbieter-Impressum: http://calovo.de/impressum (ht
 tp://calovo.de/impressum)\n\n\ncalovo Kalender löschen? Anleitung: termine.
 de/ical/loeschen
X-ALT-DESC;FMTTYPE=text/html:Liverpool FC 0:3 (0:1) Nottingham Forest<br/><br/>Liverpool FC:<br/>Alisson
  Becker, Gakpo, Gravenberch, Isak (68. Chiesa), Jones (78. Ngumoha), Kerkez
  (68. Robertson), Konaté (55. Ekitiké), Mac Allister, Salah, Szoboszlai, va
 n Dijk<br/><br/>Nottingham Forest:<br/>Anderson, Domínguez (61. Hutchinson)
 , Gibbs-White, Igor Jesus (86. Yates), Milenković, Murillo, Ndoye (86. Huds
 on-Odoi), Sangaré, Savona, Sels, Williams<br/><br/>Tore:<br/>0:1 Murillo (3
 3.)<br/>0:2 Savona (46.)<br/>0:3 Gibbs-White (78.)<br/><br/>AKTUELLE NEWS V
 ON SPORT.DE<br/><br/> 	* Ärgert der FC Liverpool den FC Bayern? <a href="ht
 tp://www.sport.de/n/KXUB7Rv2/">http://www.sport.de/n/KXUB7Rv2/</a> <br/><br
 /> <br/><br/><br/><br/><br/>Anbieter-Impressum: <a href="http://calovo.de/i
 mpressum">http://calovo.de/impressum</a><br/><br/><br/>calovo Kalender lösc
 hen? Anleitung: termine.de/ical/loeschen
DTSTAMP:20260422T230222
DTSTART;TZID=Europe/Berlin:20251122T160000
DTEND;TZID=Europe/Berlin:20251122T180000
SEQUENCE:0
TRANSP:OPAQUE
END:VEVENT
END:VCALENDAR