BEGIN:VCALENDAR
VERSION:2.0
PRODID:-//jEvents 2.0 for Joomla//EN
CALSCALE:GREGORIAN
METHOD:PUBLISH
BEGIN:VTIMEZONE
TZID:Europe/Berlin
BEGIN:STANDARD
DTSTART:20241129T150500
RDATE:20250330T030000
TZOFFSETFROM:+0200
TZOFFSETTO:+0100
TZNAME:Europe/Berlin CET
END:STANDARD
BEGIN:STANDARD
DTSTART:20251026T020000
RDATE:20260329T030000
TZOFFSETFROM:+0200
TZOFFSETTO:+0100
TZNAME:Europe/Berlin CET
END:STANDARD
BEGIN:DAYLIGHT
DTSTART:20250330T030000
RDATE:20251026T020000
TZOFFSETFROM:+0100
TZOFFSETTO:+0200
TZNAME:Europe/Berlin CEST
END:DAYLIGHT
END:VTIMEZONE
BEGIN:VEVENT
UID:68578e59f3757@2889.calovo
CATEGORIES:Liverpool
CREATED:20250708T130220
SUMMARY:West Ham United 0:2 (0:0) LIV
LOCATION:calovo.de | London Stadium (Stadion)\, London\, England
DESCRIPTION:West Ham United 0:2 (0:0) Liverpool FC<br/><br/>West Ham United:<br/>Wilson
  (78. Füllkrug), Lucas Paquetá, Diouf, Mavropanos, Mateus Fernandes, Bowen,
  Aréola, Todibo, Magassa (68. Luis Guilherme), Wan-Bissaka, Potts (88. Souč
 ek)<br/><br/>Liverpool FC:<br/>Alisson Becker, Gomez, van Dijk, Konaté, Ker
 kez (85. Robertson), Wirtz (75. Jones), Szoboszlai, Isak (68. Ekitiké), Mac
  Allister, Gakpo, Gravenberch<br/><br/>Tore:<br/>0:1 Isak (60.)<br/>0:2 Gak
 po (90.)<br/><br/>AKTUELLE NEWS VON SPORT.DE<br/><br/> 	* Liverpool-Kehrtwe
 nde bei Olise? <a href="http://www.sport.de/n/B7U6vGLb/">http://www.sport.d
 e/n/B7U6vGLb/</a> <br/><br/> <br/><br/><br/><br/><br/>Anbieter-Impressum: <
 a href="http://calovo.de/impressum">http://calovo.de/impressum</a><br/><br/
 ><br/>calovo Kalender löschen? Anleitung: termine.de/ical/loeschen
DTSTAMP:20260422T230752
DTSTART;TZID=Europe/Berlin:20251130T150500
DTEND;TZID=Europe/Berlin:20251130T170500
SEQUENCE:0
TRANSP:OPAQUE
END:VEVENT
END:VCALENDAR