BEGIN:VCALENDAR
VERSION:2.0
PRODID:-//jEvents 2.0 for Joomla//EN
CALSCALE:GREGORIAN
METHOD:PUBLISH
BEGIN:VTIMEZONE
TZID:Europe/Berlin
BEGIN:STANDARD
DTSTART:20241202T211500
RDATE:20250330T030000
TZOFFSETFROM:+0200
TZOFFSETTO:+0100
TZNAME:Europe/Berlin CET
END:STANDARD
BEGIN:STANDARD
DTSTART:20251026T020000
RDATE:20260329T030000
TZOFFSETFROM:+0200
TZOFFSETTO:+0100
TZNAME:Europe/Berlin CET
END:STANDARD
BEGIN:DAYLIGHT
DTSTART:20250330T030000
RDATE:20251026T020000
TZOFFSETFROM:+0100
TZOFFSETTO:+0200
TZNAME:Europe/Berlin CEST
END:DAYLIGHT
END:VTIMEZONE
BEGIN:VEVENT
UID:68578e5ab9820@2889.calovo
CATEGORIES:Liverpool
CREATED:20250708T130220
SUMMARY:LIV 1:1 (0:0) Sunderland AFC
LOCATION:calovo.de | Anfield (Stadion)\, Liverpool\, England
DESCRIPTION:Liverpool FC 1:1 (0:0) Sunderland AFC\n\nLiverpool FC:\nAlisson Becker, Gak
 po (46. Salah), Gomez (65. Jones), Gravenberch, Isak (86. Chiesa), Konaté, 
 Mac Allister (74. Ekitiké), Robertson (86. Kerkez), Szoboszlai, van Dijk, W
 irtz\n\nSunderland AFC:\nAlderete, Ballard, Brobbey (62. Isidor), Hume, Le 
 Fée (79. Geertruida), Mukiele, Reinildo, Roefs, Sadiki, Talbi (90. ONien), 
 Xhaka\n\nTore:\n0:1 Talbi (67.)\n1:1 Mukiele (81.)\n\nAKTUELLE NEWS VON SPO
 RT.DE\n\n 	* Uli Hoeneß erhebt schwere Vorwürfe wegen Wirtz http://www.spor
 t.de/n/DXUQVGOy/ (http://www.sport.de/n/DXUQVGOy/) \n\n \n\n\n\n\nAnbieter-
 Impressum: http://calovo.de/impressum (http://calovo.de/impressum)\n\n\ncal
 ovo Kalender löschen? Anleitung: termine.de/ical/loeschen
X-ALT-DESC;FMTTYPE=text/html:Liverpool FC 1:1 (0:0) Sunderland AFC<br/><br/>Liverpool FC:<br/>Alisson Be
 cker, Gakpo (46. Salah), Gomez (65. Jones), Gravenberch, Isak (86. Chiesa),
  Konaté, Mac Allister (74. Ekitiké), Robertson (86. Kerkez), Szoboszlai, va
 n Dijk, Wirtz<br/><br/>Sunderland AFC:<br/>Alderete, Ballard, Brobbey (62. 
 Isidor), Hume, Le Fée (79. Geertruida), Mukiele, Reinildo, Roefs, Sadiki, T
 albi (90. ONien), Xhaka<br/><br/>Tore:<br/>0:1 Talbi (67.)<br/>1:1 Mukiele 
 (81.)<br/><br/>AKTUELLE NEWS VON SPORT.DE<br/><br/> 	* Uli Hoeneß erhebt sc
 hwere Vorwürfe wegen Wirtz <a href="http://www.sport.de/n/DXUQVGOy/">http:/
 /www.sport.de/n/DXUQVGOy/</a> <br/><br/> <br/><br/><br/><br/><br/>Anbieter-
 Impressum: <a href="http://calovo.de/impressum">http://calovo.de/impressum<
 /a><br/><br/><br/>calovo Kalender löschen? Anleitung: termine.de/ical/loesc
 hen
DTSTAMP:20260422T230631
DTSTART;TZID=Europe/Berlin:20251203T211500
DTEND;TZID=Europe/Berlin:20251203T231500
SEQUENCE:0
TRANSP:OPAQUE
END:VEVENT
END:VCALENDAR