BEGIN:VCALENDAR
VERSION:2.0
PRODID:-//jEvents 2.0 for Joomla//EN
CALSCALE:GREGORIAN
METHOD:PUBLISH
BEGIN:VTIMEZONE
TZID:Europe/Berlin
BEGIN:STANDARD
DTSTART:20241205T183000
RDATE:20250330T030000
TZOFFSETFROM:+0200
TZOFFSETTO:+0100
TZNAME:Europe/Berlin CET
END:STANDARD
BEGIN:STANDARD
DTSTART:20251026T020000
RDATE:20260329T030000
TZOFFSETFROM:+0200
TZOFFSETTO:+0100
TZNAME:Europe/Berlin CET
END:STANDARD
BEGIN:DAYLIGHT
DTSTART:20250330T030000
RDATE:20251026T020000
TZOFFSETFROM:+0100
TZOFFSETTO:+0200
TZNAME:Europe/Berlin CEST
END:DAYLIGHT
END:VTIMEZONE
BEGIN:VEVENT
UID:68578e5bdf454@2889.calovo
CATEGORIES:Liverpool
CREATED:20250708T130220
SUMMARY:Leeds United 3:3 (0:0) LIV
LOCATION:calovo.de | Elland Road (Stadion)\, Leeds\, England
DESCRIPTION:Leeds United 3:3 (0:0) Liverpool FC\n\nLeeds United:\nLucas Perri, Struijk,
  Bijol (65. Aaronson), Rodon, Gudmundsson, Gruev (65. Tanaka), Ampadu (87. 
 Piroe), Stach, Bogle (90. Bornauw), Okafor (65. Gnonto), Calvert-Lewin\n\nL
 iverpool FC:\nAlisson Becker, Kerkez, Konaté, van Dijk, Bradley (68. Gomez)
 , Jones, Gravenberch, Gakpo (83. Endō), Wirtz (68. Mac Allister), Szoboszla
 i, Ekitiké (84. Isak)\n\nTore:\n0:1 Ekitiké (48.)\n0:2 Ekitiké (50.)\n1:2 C
 alvert-Lewin (73.)\n2:2 Stach (75.)\n2:3 Szoboszlai (80.)\n3:3 Tanaka (90.)
 \n\nAKTUELLE NEWS VON SPORT.DE\n\n 	* Nagelsmann zum FC Liverpool? Das ist 
 dran am Hammer-Gerücht http://www.sport.de/n/ypUdDLwV/ (http://www.sport.de
 /n/ypUdDLwV/) \n\n \n\n\n\n\nAnbieter-Impressum: http://calovo.de/impressum
  (http://calovo.de/impressum)\n\n\ncalovo Kalender löschen? Anleitung: term
 ine.de/ical/loeschen
X-ALT-DESC;FMTTYPE=text/html:Leeds United 3:3 (0:0) Liverpool FC<br/><br/>Leeds United:<br/>Lucas Perri,
  Struijk, Bijol (65. Aaronson), Rodon, Gudmundsson, Gruev (65. Tanaka), Amp
 adu (87. Piroe), Stach, Bogle (90. Bornauw), Okafor (65. Gnonto), Calvert-L
 ewin<br/><br/>Liverpool FC:<br/>Alisson Becker, Kerkez, Konaté, van Dijk, B
 radley (68. Gomez), Jones, Gravenberch, Gakpo (83. Endō), Wirtz (68. Mac Al
 lister), Szoboszlai, Ekitiké (84. Isak)<br/><br/>Tore:<br/>0:1 Ekitiké (48.
 )<br/>0:2 Ekitiké (50.)<br/>1:2 Calvert-Lewin (73.)<br/>2:2 Stach (75.)<br/
 >2:3 Szoboszlai (80.)<br/>3:3 Tanaka (90.)<br/><br/>AKTUELLE NEWS VON SPORT
 .DE<br/><br/> 	* Nagelsmann zum FC Liverpool? Das ist dran am Hammer-Gerüch
 t <a href="http://www.sport.de/n/ypUdDLwV/">http://www.sport.de/n/ypUdDLwV/
 </a> <br/><br/> <br/><br/><br/><br/><br/>Anbieter-Impressum: <a href="http:
 //calovo.de/impressum">http://calovo.de/impressum</a><br/><br/><br/>calovo 
 Kalender löschen? Anleitung: termine.de/ical/loeschen
DTSTAMP:20260422T194440
DTSTART;TZID=Europe/Berlin:20251206T183000
DTEND;TZID=Europe/Berlin:20251206T203000
SEQUENCE:0
TRANSP:OPAQUE
END:VEVENT
END:VCALENDAR