BEGIN:VCALENDAR
VERSION:2.0
PRODID:-//jEvents 2.0 for Joomla//EN
CALSCALE:GREGORIAN
METHOD:PUBLISH
BEGIN:VTIMEZONE
TZID:Europe/Berlin
BEGIN:STANDARD
DTSTART:20241212T160000
RDATE:20250330T030000
TZOFFSETFROM:+0200
TZOFFSETTO:+0100
TZNAME:Europe/Berlin CET
END:STANDARD
BEGIN:STANDARD
DTSTART:20251026T020000
RDATE:20260329T030000
TZOFFSETFROM:+0200
TZOFFSETTO:+0100
TZNAME:Europe/Berlin CET
END:STANDARD
BEGIN:DAYLIGHT
DTSTART:20250330T030000
RDATE:20251026T020000
TZOFFSETFROM:+0100
TZOFFSETTO:+0200
TZNAME:Europe/Berlin CEST
END:DAYLIGHT
END:VTIMEZONE
BEGIN:VEVENT
UID:68578e5d1fd52@2889.calovo
CATEGORIES:Liverpool
CREATED:20250708T130220
SUMMARY:LIV 2:0 (1:0) Brighton & Hove Albion
LOCATION:calovo.de | Anfield (Stadion)\, Liverpool\, England
DESCRIPTION:Liverpool FC 2:0 (1:0) Brighton & Hove Albion<br/><br/>Liverpool FC:<br/>Al
 isson Becker, Kerkez, van Dijk, Konaté, Gomez (26. Salah), Jones, Gravenber
 ch, Wirtz (78. Robertson), Mac Allister, Szoboszlai (83. Chiesa), Ekitiké (
 78. Isak)<br/><br/>Brighton & Hove Albion:<br/>Verbruggen, Kadıoğlu, Dunk, 
 van Hecke, Wieffer, Hinshelwood (82. Welbeck), Baleba (64. Ayari), Gómez (8
 7. Milner), Gruda (64. Mitoma), Minteh, Rutter (82. Kostoulas)<br/><br/>Tor
 e:<br/>1:0 Ekitiké (1.)<br/>2:0 Ekitiké (60.)<br/><br/>AKTUELLE NEWS VON SP
 ORT.DE<br/><br/> 	* Nächste irre Kehrtwende in Liverpools Salah-Posse <a hr
 ef="http://www.sport.de/n/pWUyKk03/">http://www.sport.de/n/pWUyKk03/</a> <b
 r/><br/> <br/><br/><br/><br/><br/>Anbieter-Impressum: <a href="http://calov
 o.de/impressum">http://calovo.de/impressum</a><br/><br/><br/>calovo Kalende
 r löschen? Anleitung: termine.de/ical/loeschen
DTSTAMP:20260422T194512
DTSTART;TZID=Europe/Berlin:20251213T160000
DTEND;TZID=Europe/Berlin:20251213T180000
SEQUENCE:0
TRANSP:OPAQUE
END:VEVENT
END:VCALENDAR