BEGIN:VCALENDAR
VERSION:2.0
PRODID:-//jEvents 2.0 for Joomla//EN
CALSCALE:GREGORIAN
METHOD:PUBLISH
BEGIN:VTIMEZONE
TZID:Europe/Berlin
BEGIN:STANDARD
DTSTART:20241219T183000
RDATE:20250330T030000
TZOFFSETFROM:+0200
TZOFFSETTO:+0100
TZNAME:Europe/Berlin CET
END:STANDARD
BEGIN:STANDARD
DTSTART:20251026T020000
RDATE:20260329T030000
TZOFFSETFROM:+0200
TZOFFSETTO:+0100
TZNAME:Europe/Berlin CET
END:STANDARD
BEGIN:DAYLIGHT
DTSTART:20250330T030000
RDATE:20251026T020000
TZOFFSETFROM:+0100
TZOFFSETTO:+0200
TZNAME:Europe/Berlin CEST
END:DAYLIGHT
END:VTIMEZONE
BEGIN:VEVENT
UID:68578e5ead749@2889.calovo
CATEGORIES:Liverpool
CREATED:20250708T130220
SUMMARY:Tottenham Hotspur 1:2 (0:0) LIV
LOCATION:calovo.de | Tottenham Hotspur Stadium (Stadion)\, London\, England
DESCRIPTION:Tottenham Hotspur 1:2 (0:0) Liverpool FC\n\nTottenham Hotspur:\nVicario, Sp
 ence, van de Ven, Romero, Pedro Porro, Gray (71. João Palhinha), Bentancur,
  Simons, Bergvall (71. Odobert), Kudus (58. Johnson), Kolo Muani (80. Richa
 rlison)\n\nLiverpool FC:\nAlisson Becker, Kerkez, van Dijk, Konaté, Bradley
  (46. Isak), Jones, Gravenberch, Wirtz (90. Nyoni), Mac Allister, Szoboszla
 i, Ekitiké (90. Robertson)\n\nTore:\n0:1 Isak (56.)\n0:2 Ekitiké (66.)\n1:2
  Richarlison (83.)\n\nAKTUELLE NEWS VON SPORT.DE\n\n 	* Kollege verrät: Sal
 ah entschuldigte sich für Interview http://www.sport.de/n/jmUKxyPA/ (http:/
 /www.sport.de/n/jmUKxyPA/) \n\n \n\n\n\n\nAnbieter-Impressum: http://calovo
 .de/impressum (http://calovo.de/impressum)\n\n\ncalovo Kalender löschen? An
 leitung: termine.de/ical/loeschen
X-ALT-DESC;FMTTYPE=text/html:Tottenham Hotspur 1:2 (0:0) Liverpool FC<br/><br/>Tottenham Hotspur:<br/>Vi
 cario, Spence, van de Ven, Romero, Pedro Porro, Gray (71. João Palhinha), B
 entancur, Simons, Bergvall (71. Odobert), Kudus (58. Johnson), Kolo Muani (
 80. Richarlison)<br/><br/>Liverpool FC:<br/>Alisson Becker, Kerkez, van Dij
 k, Konaté, Bradley (46. Isak), Jones, Gravenberch, Wirtz (90. Nyoni), Mac A
 llister, Szoboszlai, Ekitiké (90. Robertson)<br/><br/>Tore:<br/>0:1 Isak (5
 6.)<br/>0:2 Ekitiké (66.)<br/>1:2 Richarlison (83.)<br/><br/>AKTUELLE NEWS 
 VON SPORT.DE<br/><br/> 	* Kollege verrät: Salah entschuldigte sich für Inte
 rview <a href="http://www.sport.de/n/jmUKxyPA/">http://www.sport.de/n/jmUKx
 yPA/</a> <br/><br/> <br/><br/><br/><br/><br/>Anbieter-Impressum: <a href="h
 ttp://calovo.de/impressum">http://calovo.de/impressum</a><br/><br/><br/>cal
 ovo Kalender löschen? Anleitung: termine.de/ical/loeschen
DTSTAMP:20260422T212757
DTSTART;TZID=Europe/Berlin:20251220T183000
DTEND;TZID=Europe/Berlin:20251220T203000
SEQUENCE:0
TRANSP:OPAQUE
END:VEVENT
END:VCALENDAR