BEGIN:VCALENDAR
VERSION:2.0
PRODID:-//jEvents 2.0 for Joomla//EN
CALSCALE:GREGORIAN
METHOD:PUBLISH
BEGIN:VTIMEZONE
TZID:Europe/Berlin
BEGIN:STANDARD
DTSTART:20241226T160000
RDATE:20250330T030000
TZOFFSETFROM:+0200
TZOFFSETTO:+0100
TZNAME:Europe/Berlin CET
END:STANDARD
BEGIN:STANDARD
DTSTART:20251026T020000
RDATE:20260329T030000
TZOFFSETFROM:+0200
TZOFFSETTO:+0100
TZNAME:Europe/Berlin CET
END:STANDARD
BEGIN:DAYLIGHT
DTSTART:20250330T030000
RDATE:20251026T020000
TZOFFSETFROM:+0100
TZOFFSETTO:+0200
TZNAME:Europe/Berlin CEST
END:DAYLIGHT
END:VTIMEZONE
BEGIN:VEVENT
UID:68578e5f840f2@2889.calovo
CATEGORIES:Liverpool
CREATED:20250708T130220
SUMMARY:LIV 2:1 (2:0) Wolverhampton Wanderers
LOCATION:calovo.de | Anfield (Stadion)\, Liverpool\, England
DESCRIPTION:Liverpool FC 2:1 (2:0) Wolverhampton Wanderers\n\nLiverpool FC:\nAlisson Be
 cker, Kerkez, van Dijk, Konaté, Frimpong, Jones, Gravenberch, Wirtz (90. Ny
 oni), Mac Allister, Chiesa (61. Bradley), Ekitiké (86. Gakpo)\n\nWolverhamp
 ton Wanderers:\nJosé Sá, Bueno, Mosquera (79. Arias), Doherty (62. Tchatcho
 ua), Hugo Bueno (62. Møller Wolfe), Krejčí, André, João Gomes, Arokodare, H
 wang (62. Strand Larsen), Mané\n\nTore:\n1:0 Gravenberch (41.)\n2:0 Wirtz (
 42.)\n2:1 Bueno (51.)\n\nAKTUELLE NEWS VON SPORT.DE\n\n 	* Bericht: Vier To
 p-Teams bereiten Olise-Offerten vor http://www.sport.de/n/GZUBaXpy/ (http:/
 /www.sport.de/n/GZUBaXpy/) \n\n \n\n\n\n\nAnbieter-Impressum: http://calovo
 .de/impressum (http://calovo.de/impressum)\n\n\ncalovo Kalender löschen? An
 leitung: termine.de/ical/loeschen
X-ALT-DESC;FMTTYPE=text/html:Liverpool FC 2:1 (2:0) Wolverhampton Wanderers<br/><br/>Liverpool FC:<br/>A
 lisson Becker, Kerkez, van Dijk, Konaté, Frimpong, Jones, Gravenberch, Wirt
 z (90. Nyoni), Mac Allister, Chiesa (61. Bradley), Ekitiké (86. Gakpo)<br/>
 <br/>Wolverhampton Wanderers:<br/>José Sá, Bueno, Mosquera (79. Arias), Doh
 erty (62. Tchatchoua), Hugo Bueno (62. Møller Wolfe), Krejčí, André, João G
 omes, Arokodare, Hwang (62. Strand Larsen), Mané<br/><br/>Tore:<br/>1:0 Gra
 venberch (41.)<br/>2:0 Wirtz (42.)<br/>2:1 Bueno (51.)<br/><br/>AKTUELLE NE
 WS VON SPORT.DE<br/><br/> 	* Bericht: Vier Top-Teams bereiten Olise-Offerte
 n vor <a href="http://www.sport.de/n/GZUBaXpy/">http://www.sport.de/n/GZUBa
 Xpy/</a> <br/><br/> <br/><br/><br/><br/><br/>Anbieter-Impressum: <a href="h
 ttp://calovo.de/impressum">http://calovo.de/impressum</a><br/><br/><br/>cal
 ovo Kalender löschen? Anleitung: termine.de/ical/loeschen
DTSTAMP:20260422T194440
DTSTART;TZID=Europe/Berlin:20251227T160000
DTEND;TZID=Europe/Berlin:20251227T180000
SEQUENCE:0
TRANSP:OPAQUE
END:VEVENT
END:VCALENDAR