BEGIN:VCALENDAR
VERSION:2.0
PRODID:-//jEvents 2.0 for Joomla//EN
CALSCALE:GREGORIAN
METHOD:PUBLISH
BEGIN:VTIMEZONE
TZID:Europe/Berlin
BEGIN:STANDARD
DTSTART:20241231T183000
RDATE:20250330T030000
TZOFFSETFROM:+0200
TZOFFSETTO:+0100
TZNAME:Europe/Berlin CET
END:STANDARD
BEGIN:STANDARD
DTSTART:20251026T020000
RDATE:20260329T030000
TZOFFSETFROM:+0200
TZOFFSETTO:+0100
TZNAME:Europe/Berlin CET
END:STANDARD
BEGIN:DAYLIGHT
DTSTART:20250330T030000
RDATE:20251026T020000
TZOFFSETFROM:+0100
TZOFFSETTO:+0200
TZNAME:Europe/Berlin CEST
END:DAYLIGHT
END:VTIMEZONE
BEGIN:VEVENT
UID:68578e60ab217@2889.calovo
CATEGORIES:Liverpool
CREATED:20250708T130220
SUMMARY:LIV 0:0 (0:0) Leeds United
LOCATION:calovo.de | Anfield (Stadion)\, Liverpool\, England
DESCRIPTION:Liverpool FC 0:0 (0:0) Leeds United<br/><br/>Liverpool FC:<br/>Alisson Beck
 er, Robertson (66. Kerkez), van Dijk, Konaté, Bradley (79. Chiesa), Jones (
 66. Mac Allister), Gravenberch, Wirtz (66. Gakpo), Szoboszlai, Frimpong (84
 . Ngumoha), Ekitiké<br/><br/>Leeds United:<br/>Lucas Perri, Struijk, Bijol,
  Bornauw (83. Bogle), Gudmundsson, Stach, Ampadu, Gruev (90. Tanaka), Justi
 n, Nmecha (70. Calvert-Lewin), Aaronson (70. Okafor)<br/><br/>AKTUELLE NEWS
  VON SPORT.DE<br/><br/> 	* FC Liverpool schmeißt ersten Trainer raus <a hre
 f="http://www.sport.de/n/EXUw4lDR/">http://www.sport.de/n/EXUw4lDR/</a> <br
 /><br/> <br/><br/><br/><br/><br/>Anbieter-Impressum: <a href="http://calovo
 .de/impressum">http://calovo.de/impressum</a><br/><br/><br/>calovo Kalender
  löschen? Anleitung: termine.de/ical/loeschen
DTSTAMP:20260422T194512
DTSTART;TZID=Europe/Berlin:20260101T183000
DTEND;TZID=Europe/Berlin:20260101T203000
SEQUENCE:0
TRANSP:OPAQUE
END:VEVENT
END:VCALENDAR