BEGIN:VCALENDAR
VERSION:2.0
PRODID:-//jEvents 2.0 for Joomla//EN
CALSCALE:GREGORIAN
METHOD:PUBLISH
BEGIN:VTIMEZONE
TZID:Europe/Berlin
BEGIN:STANDARD
DTSTART:20250103T161500
RDATE:20250330T030000
TZOFFSETFROM:+0200
TZOFFSETTO:+0100
TZNAME:Europe/Berlin CET
END:STANDARD
BEGIN:STANDARD
DTSTART:20251026T020000
RDATE:20260329T030000
TZOFFSETFROM:+0200
TZOFFSETTO:+0100
TZNAME:Europe/Berlin CET
END:STANDARD
BEGIN:DAYLIGHT
DTSTART:20250330T030000
RDATE:20251026T020000
TZOFFSETFROM:+0100
TZOFFSETTO:+0200
TZNAME:Europe/Berlin CEST
END:DAYLIGHT
END:VTIMEZONE
BEGIN:VEVENT
UID:68578e61864e7@2889.calovo
CATEGORIES:Liverpool
CREATED:20250708T130220
SUMMARY:Fulham FC 2:2 (1:0) LIV
LOCATION:calovo.de | Craven Cottage (Stadion)\, London\, England
DESCRIPTION:Fulham FC 2:2 (1:0) Liverpool FC\n\nFulham FC:\nLeno, Jorge Cuenca, Anderse
 n, Diop, Robinson, Cairney (74. Berge), Lukić (90. Reed), Castagne, Smith R
 owe (74. Kevin), Wilson (85. Adama Traoré), Jiménez (85. Kusi-Asare)\n\nLiv
 erpool FC:\nAlisson Becker, Kerkez, van Dijk, Konaté, Bradley, Jones (85. C
 hiesa), Gravenberch, Wirtz (76. Frimpong), Mac Allister, Szoboszlai, Gakpo 
 (90. Gomez)\n\nTore:\n1:0 Wilson (17.)\n1:1 Wirtz (57.)\n1:2 Gakpo (90.)\n2
 :2 Reed (90.)\n\nAKTUELLE NEWS VON SPORT.DE\n\n 	* "Keine Lösungen": FC Liv
 erpool hadert nach Dämpfer http://www.sport.de/n/QXUd2o7L/ (http://www.spor
 t.de/n/QXUd2o7L/) \n\n \n\n\n\n\nAnbieter-Impressum: http://calovo.de/impre
 ssum (http://calovo.de/impressum)\n\n\ncalovo Kalender löschen? Anleitung: 
 termine.de/ical/loeschen
X-ALT-DESC;FMTTYPE=text/html:Fulham FC 2:2 (1:0) Liverpool FC<br/><br/>Fulham FC:<br/>Leno, Jorge Cuenca
 , Andersen, Diop, Robinson, Cairney (74. Berge), Lukić (90. Reed), Castagne
 , Smith Rowe (74. Kevin), Wilson (85. Adama Traoré), Jiménez (85. Kusi-Asar
 e)<br/><br/>Liverpool FC:<br/>Alisson Becker, Kerkez, van Dijk, Konaté, Bra
 dley, Jones (85. Chiesa), Gravenberch, Wirtz (76. Frimpong), Mac Allister, 
 Szoboszlai, Gakpo (90. Gomez)<br/><br/>Tore:<br/>1:0 Wilson (17.)<br/>1:1 W
 irtz (57.)<br/>1:2 Gakpo (90.)<br/>2:2 Reed (90.)<br/><br/>AKTUELLE NEWS VO
 N SPORT.DE<br/><br/> 	* "Keine Lösungen": FC Liverpool hadert nach Dämpfer 
 <a href="http://www.sport.de/n/QXUd2o7L/">http://www.sport.de/n/QXUd2o7L/</
 a> <br/><br/> <br/><br/><br/><br/><br/>Anbieter-Impressum: <a href="http://
 calovo.de/impressum">http://calovo.de/impressum</a><br/><br/><br/>calovo Ka
 lender löschen? Anleitung: termine.de/ical/loeschen
DTSTAMP:20260422T194440
DTSTART;TZID=Europe/Berlin:20260104T161500
DTEND;TZID=Europe/Berlin:20260104T181500
SEQUENCE:0
TRANSP:OPAQUE
END:VEVENT
END:VCALENDAR