BEGIN:VCALENDAR
VERSION:2.0
PRODID:-//jEvents 2.0 for Joomla//EN
CALSCALE:GREGORIAN
METHOD:PUBLISH
BEGIN:VTIMEZONE
TZID:Europe/Berlin
BEGIN:STANDARD
DTSTART:20250107T210000
RDATE:20250330T030000
TZOFFSETFROM:+0200
TZOFFSETTO:+0100
TZNAME:Europe/Berlin CET
END:STANDARD
BEGIN:STANDARD
DTSTART:20251026T020000
RDATE:20260329T030000
TZOFFSETFROM:+0200
TZOFFSETTO:+0100
TZNAME:Europe/Berlin CET
END:STANDARD
BEGIN:DAYLIGHT
DTSTART:20250330T030000
RDATE:20251026T020000
TZOFFSETFROM:+0100
TZOFFSETTO:+0200
TZNAME:Europe/Berlin CEST
END:DAYLIGHT
END:VTIMEZONE
BEGIN:VEVENT
UID:68578e6277283@2889.calovo
CATEGORIES:Liverpool
CREATED:20250708T130220
SUMMARY:Arsenal FC 0:0 (0:0) LIV
LOCATION:calovo.de | Emirates Stadium (Stadion)\, London\, England
DESCRIPTION:Arsenal FC 0:0 (0:0) Liverpool FC\n\nArsenal FC:\nDavid Raya, Hincapié (57.
  Lewis-Skelly), Gabriel Magalhães, Saliba, Timber, Rice, Martín Zubimendi, 
 Ødegaard (78. Eze), Trossard (64. Gabriel Martinelli), Gyökeres (64. Gabrie
 l Jesus), Saka (78. Madueke)\n\nLiverpool FC:\nAlisson Becker, Kerkez, van 
 Dijk, Konaté, Bradley (90. Gomez), Mac Allister, Gravenberch, Wirtz, Szobos
 zlai, Frimpong, Gakpo\n\nAKTUELLE NEWS VON SPORT.DE\n\n 	* Klatsche für Flo
 rian Wirtz: "Er muss sich steigern" http://www.sport.de/n/6mUp0rOj/ (http:/
 /www.sport.de/n/6mUp0rOj/) \n\n \n\n\n\n\nAnbieter-Impressum: http://calovo
 .de/impressum (http://calovo.de/impressum)\n\n\ncalovo Kalender löschen? An
 leitung: termine.de/ical/loeschen
X-ALT-DESC;FMTTYPE=text/html:Arsenal FC 0:0 (0:0) Liverpool FC<br/><br/>Arsenal FC:<br/>David Raya, Hinc
 apié (57. Lewis-Skelly), Gabriel Magalhães, Saliba, Timber, Rice, Martín Zu
 bimendi, Ødegaard (78. Eze), Trossard (64. Gabriel Martinelli), Gyökeres (6
 4. Gabriel Jesus), Saka (78. Madueke)<br/><br/>Liverpool FC:<br/>Alisson Be
 cker, Kerkez, van Dijk, Konaté, Bradley (90. Gomez), Mac Allister, Gravenbe
 rch, Wirtz, Szoboszlai, Frimpong, Gakpo<br/><br/>AKTUELLE NEWS VON SPORT.DE
 <br/><br/> 	* Klatsche für Florian Wirtz: "Er muss sich steigern" <a href="
 http://www.sport.de/n/6mUp0rOj/">http://www.sport.de/n/6mUp0rOj/</a> <br/><
 br/> <br/><br/><br/><br/><br/>Anbieter-Impressum: <a href="http://calovo.de
 /impressum">http://calovo.de/impressum</a><br/><br/><br/>calovo Kalender lö
 schen? Anleitung: termine.de/ical/loeschen
DTSTAMP:20260422T194440
DTSTART;TZID=Europe/Berlin:20260108T210000
DTEND;TZID=Europe/Berlin:20260108T230000
SEQUENCE:0
TRANSP:OPAQUE
END:VEVENT
END:VCALENDAR