BEGIN:VCALENDAR
VERSION:2.0
PRODID:-//jEvents 2.0 for Joomla//EN
CALSCALE:GREGORIAN
METHOD:PUBLISH
BEGIN:VTIMEZONE
TZID:Europe/Berlin
BEGIN:STANDARD
DTSTART:20250116T160000
RDATE:20250330T030000
TZOFFSETFROM:+0200
TZOFFSETTO:+0100
TZNAME:Europe/Berlin CET
END:STANDARD
BEGIN:STANDARD
DTSTART:20251026T020000
RDATE:20260329T030000
TZOFFSETFROM:+0200
TZOFFSETTO:+0100
TZNAME:Europe/Berlin CET
END:STANDARD
BEGIN:DAYLIGHT
DTSTART:20250330T030000
RDATE:20251026T020000
TZOFFSETFROM:+0100
TZOFFSETTO:+0200
TZNAME:Europe/Berlin CEST
END:DAYLIGHT
END:VTIMEZONE
BEGIN:VEVENT
UID:68578e63ad2d3@2889.calovo
CATEGORIES:Liverpool
CREATED:20250708T130220
SUMMARY:LIV 1:1 (1:0) Burnley FC
LOCATION:calovo.de | Anfield (Stadion)\, Liverpool\, England
DESCRIPTION:Liverpool FC 1:1 (1:0) Burnley FC\n\nLiverpool FC:\nAlisson Becker, Kerkez 
 (78. Robertson), van Dijk, Konaté, Frimpong, Jones (87. Chiesa), Gravenberc
 h (78. Mac Allister), Gakpo (78. Ngumoha), Wirtz, Szoboszlai, Ekitiké\n\nBu
 rnley FC:\nDúbravka, Humphreys, Estève (74. Ekdal), Tuanzebe, Lucas Pires, 
 Florentino (90. Tchaouna), Ugochukwu (85. Laurent), Walker, Anthony, Edward
 s (90. Mejbri), Broja (74. Foster)\n\nTore:\n1:0 Wirtz (42.)\n1:1 Edwards (
 65.)\n\nAKTUELLE NEWS VON SPORT.DE\n\n 	* Wildes Gerücht: FC Bayern wird be
 i Xabi Alonso "nicht zögern" http://www.sport.de/n/PXUwqERn/ (http://www.sp
 ort.de/n/PXUwqERn/) \n\n \n\n\n\n\nAnbieter-Impressum: http://calovo.de/imp
 ressum (http://calovo.de/impressum)\n\n\ncalovo Kalender löschen? Anleitung
 : termine.de/ical/loeschen
X-ALT-DESC;FMTTYPE=text/html:Liverpool FC 1:1 (1:0) Burnley FC<br/><br/>Liverpool FC:<br/>Alisson Becker
 , Kerkez (78. Robertson), van Dijk, Konaté, Frimpong, Jones (87. Chiesa), G
 ravenberch (78. Mac Allister), Gakpo (78. Ngumoha), Wirtz, Szoboszlai, Ekit
 iké<br/><br/>Burnley FC:<br/>Dúbravka, Humphreys, Estève (74. Ekdal), Tuanz
 ebe, Lucas Pires, Florentino (90. Tchaouna), Ugochukwu (85. Laurent), Walke
 r, Anthony, Edwards (90. Mejbri), Broja (74. Foster)<br/><br/>Tore:<br/>1:0
  Wirtz (42.)<br/>1:1 Edwards (65.)<br/><br/>AKTUELLE NEWS VON SPORT.DE<br/>
 <br/> 	* Wildes Gerücht: FC Bayern wird bei Xabi Alonso "nicht zögern" <a h
 ref="http://www.sport.de/n/PXUwqERn/">http://www.sport.de/n/PXUwqERn/</a> <
 br/><br/> <br/><br/><br/><br/><br/>Anbieter-Impressum: <a href="http://calo
 vo.de/impressum">http://calovo.de/impressum</a><br/><br/><br/>calovo Kalend
 er löschen? Anleitung: termine.de/ical/loeschen
DTSTAMP:20260422T180038
DTSTART;TZID=Europe/Berlin:20260117T160000
DTEND;TZID=Europe/Berlin:20260117T180000
SEQUENCE:0
TRANSP:OPAQUE
END:VEVENT
END:VCALENDAR