BEGIN:VCALENDAR
VERSION:2.0
PRODID:-//jEvents 2.0 for Joomla//EN
CALSCALE:GREGORIAN
METHOD:PUBLISH
BEGIN:VTIMEZONE
TZID:Europe/Berlin
BEGIN:STANDARD
DTSTART:20250123T183000
RDATE:20250330T030000
TZOFFSETFROM:+0200
TZOFFSETTO:+0100
TZNAME:Europe/Berlin CET
END:STANDARD
BEGIN:STANDARD
DTSTART:20251026T020000
RDATE:20260329T030000
TZOFFSETFROM:+0200
TZOFFSETTO:+0100
TZNAME:Europe/Berlin CET
END:STANDARD
BEGIN:DAYLIGHT
DTSTART:20250330T030000
RDATE:20251026T020000
TZOFFSETFROM:+0100
TZOFFSETTO:+0200
TZNAME:Europe/Berlin CEST
END:DAYLIGHT
END:VTIMEZONE
BEGIN:VEVENT
UID:68578e64735f8@2889.calovo
CATEGORIES:Liverpool
CREATED:20250708T130220
SUMMARY:AFC Bournemouth 3:2 (2:1) LIV
LOCATION:calovo.de | Vitality Stadium (Stadion)\, Bournemouth\, England
DESCRIPTION:AFC Bournemouth 3:2 (2:1) Liverpool FC\n\nAFC Bournemouth:\nPetrović, Truff
 ert, Senesi, Hill, Smith, Cook, Scott, Adli, Kroupi (67. Christie), Álex Ji
 ménez (85. Tóth), Evanilson (90. Ünal)\n\nLiverpool FC:\nAlisson Becker, Ke
 rkez (46. Robertson), van Dijk, Gomez (35. Endō), Frimpong (59. Jones), Mac
  Allister (59. Ekitiké), Gravenberch, Wirtz, Szoboszlai, Gakpo (74. Ngumoha
 ), Salah\n\nTore:\n1:0 Evanilson (26.)\n2:0 Álex Jiménez (33.)\n2:1 van Dij
 k (45.)\n2:2 Szoboszlai (80.)\n3:2 Adli (90.)\n\nAKTUELLE NEWS VON SPORT.DE
 \n\n 	* Wichtige Erfolge für Wirtz und Woltemade http://www.sport.de/n/QXUd
 M02d/ (http://www.sport.de/n/QXUdM02d/) \n\n \n\n\n\n\nAnbieter-Impressum: 
 http://calovo.de/impressum (http://calovo.de/impressum)\n\n\ncalovo Kalende
 r löschen? Anleitung: termine.de/ical/loeschen
X-ALT-DESC;FMTTYPE=text/html:AFC Bournemouth 3:2 (2:1) Liverpool FC<br/><br/>AFC Bournemouth:<br/>Petrov
 ić, Truffert, Senesi, Hill, Smith, Cook, Scott, Adli, Kroupi (67. Christie)
 , Álex Jiménez (85. Tóth), Evanilson (90. Ünal)<br/><br/>Liverpool FC:<br/>
 Alisson Becker, Kerkez (46. Robertson), van Dijk, Gomez (35. Endō), Frimpon
 g (59. Jones), Mac Allister (59. Ekitiké), Gravenberch, Wirtz, Szoboszlai, 
 Gakpo (74. Ngumoha), Salah<br/><br/>Tore:<br/>1:0 Evanilson (26.)<br/>2:0 Á
 lex Jiménez (33.)<br/>2:1 van Dijk (45.)<br/>2:2 Szoboszlai (80.)<br/>3:2 A
 dli (90.)<br/><br/>AKTUELLE NEWS VON SPORT.DE<br/><br/> 	* Wichtige Erfolge
  für Wirtz und Woltemade <a href="http://www.sport.de/n/QXUdM02d/">http://w
 ww.sport.de/n/QXUdM02d/</a> <br/><br/> <br/><br/><br/><br/><br/>Anbieter-Im
 pressum: <a href="http://calovo.de/impressum">http://calovo.de/impressum</a
 ><br/><br/><br/>calovo Kalender löschen? Anleitung: termine.de/ical/loesche
 n
DTSTAMP:20260422T180008
DTSTART;TZID=Europe/Berlin:20260124T183000
DTEND;TZID=Europe/Berlin:20260124T203000
SEQUENCE:0
TRANSP:OPAQUE
END:VEVENT
END:VCALENDAR