BEGIN:VCALENDAR
VERSION:2.0
PRODID:-//jEvents 2.0 for Joomla//EN
CALSCALE:GREGORIAN
METHOD:PUBLISH
BEGIN:VTIMEZONE
TZID:Europe/Berlin
BEGIN:STANDARD
DTSTART:20250130T210000
RDATE:20250330T030000
TZOFFSETFROM:+0200
TZOFFSETTO:+0100
TZNAME:Europe/Berlin CET
END:STANDARD
BEGIN:STANDARD
DTSTART:20251026T020000
RDATE:20260329T030000
TZOFFSETFROM:+0200
TZOFFSETTO:+0100
TZNAME:Europe/Berlin CET
END:STANDARD
BEGIN:DAYLIGHT
DTSTART:20250330T030000
RDATE:20251026T020000
TZOFFSETFROM:+0100
TZOFFSETTO:+0200
TZNAME:Europe/Berlin CEST
END:DAYLIGHT
END:VTIMEZONE
BEGIN:VEVENT
UID:68578e65eda2e@2889.calovo
CATEGORIES:Liverpool
CREATED:20250708T130220
SUMMARY:LIV 4:1 (2:1) Newcastle United
LOCATION:calovo.de | Anfield (Stadion)\, Liverpool\, England
DESCRIPTION:Liverpool FC 4:1 (2:1) Newcastle United\n\nLiverpool FC:\nAlisson Becker, K
 erkez, van Dijk, Konaté, Szoboszlai, Gravenberch, Mac Allister, Gakpo, Wirt
 z (87. Endō), Salah (84. Chiesa), Ekitiké (84. Jones)\n\nNewcastle United:\
 nPope, Hall (89. Murphy), Burn, Thiaw, Trippier (84. Osula), Ramsey, Tonali
 , Willock (73. Woltemade), Barnes (73. Wissa), Gordon, Elanga (73. Murphy)\
 n\nTore:\n0:1 Gordon (36.)\n1:1 Ekitiké (41.)\n2:1 Ekitiké (43.)\n3:1 Wirtz
  (67.)\n4:1 Konaté (90.)\n\nAKTUELLE NEWS VON SPORT.DE\n\n 	* Xabi ein Kand
 idat? FC Liverpool trifft Trainer-Entscheidung http://www.sport.de/n/PXUwqn
 V3/ (http://www.sport.de/n/PXUwqnV3/) \n\n \n\n\n\n\nAnbieter-Impressum: ht
 tp://calovo.de/impressum (http://calovo.de/impressum)\n\n\ncalovo Kalender 
 löschen? Anleitung: termine.de/ical/loeschen
X-ALT-DESC;FMTTYPE=text/html:Liverpool FC 4:1 (2:1) Newcastle United<br/><br/>Liverpool FC:<br/>Alisson 
 Becker, Kerkez, van Dijk, Konaté, Szoboszlai, Gravenberch, Mac Allister, Ga
 kpo, Wirtz (87. Endō), Salah (84. Chiesa), Ekitiké (84. Jones)<br/><br/>New
 castle United:<br/>Pope, Hall (89. Murphy), Burn, Thiaw, Trippier (84. Osul
 a), Ramsey, Tonali, Willock (73. Woltemade), Barnes (73. Wissa), Gordon, El
 anga (73. Murphy)<br/><br/>Tore:<br/>0:1 Gordon (36.)<br/>1:1 Ekitiké (41.)
 <br/>2:1 Ekitiké (43.)<br/>3:1 Wirtz (67.)<br/>4:1 Konaté (90.)<br/><br/>AK
 TUELLE NEWS VON SPORT.DE<br/><br/> 	* Xabi ein Kandidat? FC Liverpool triff
 t Trainer-Entscheidung <a href="http://www.sport.de/n/PXUwqnV3/">http://www
 .sport.de/n/PXUwqnV3/</a> <br/><br/> <br/><br/><br/><br/><br/>Anbieter-Impr
 essum: <a href="http://calovo.de/impressum">http://calovo.de/impressum</a><
 br/><br/><br/>calovo Kalender löschen? Anleitung: termine.de/ical/loeschen
DTSTAMP:20260422T180003
DTSTART;TZID=Europe/Berlin:20260131T210000
DTEND;TZID=Europe/Berlin:20260131T230000
SEQUENCE:0
TRANSP:OPAQUE
END:VEVENT
END:VCALENDAR