BEGIN:VCALENDAR
VERSION:2.0
PRODID:-//jEvents 2.0 for Joomla//EN
CALSCALE:GREGORIAN
METHOD:PUBLISH
BEGIN:VTIMEZONE
TZID:Europe/Berlin
BEGIN:STANDARD
DTSTART:20250207T173000
RDATE:20250330T030000
TZOFFSETFROM:+0200
TZOFFSETTO:+0100
TZNAME:Europe/Berlin CET
END:STANDARD
BEGIN:STANDARD
DTSTART:20251026T020000
RDATE:20260329T030000
TZOFFSETFROM:+0200
TZOFFSETTO:+0100
TZNAME:Europe/Berlin CET
END:STANDARD
BEGIN:DAYLIGHT
DTSTART:20250330T030000
RDATE:20251026T020000
TZOFFSETFROM:+0100
TZOFFSETTO:+0200
TZNAME:Europe/Berlin CEST
END:DAYLIGHT
END:VTIMEZONE
BEGIN:VEVENT
UID:68578e67aa998@2889.calovo
CATEGORIES:Liverpool
CREATED:20250708T130220
SUMMARY:LIV 1:2 (0:0) Manchester City
LOCATION:calovo.de | Anfield (Stadion)\, Liverpool\, England
DESCRIPTION:Liverpool FC 1:2 (0:0) Manchester City\n\nLiverpool FC:\nAlisson Becker, Ke
 rkez (90. Chiesa), van Dijk, Konaté, Szoboszlai, Mac Allister, Gravenberch,
  Gakpo (85. Jones), Wirtz, Salah, Ekitiké\n\nManchester City:\nDonnarumma, 
 Aït Nouri, Guéhi, Khusanov (61. Rúben Dias), Matheus Nunes, OReilly, Rodri,
  Bernardo Silva, Marmoush (61. Cherki), Haaland, Semenyo (90. Aké)\n\nTore:
 \n1:0 Szoboszlai (74.)\n1:1 Bernardo Silva (84.)\n1:2 Haaland (90.)\n\nAKTU
 ELLE NEWS VON SPORT.DE\n\n 	* FC Bayern geht mal wieder leer aus http://www
 .sport.de/n/gMUkravD/ (http://www.sport.de/n/gMUkravD/) \n\n \n\n\n\n\nAnbi
 eter-Impressum: http://calovo.de/impressum (http://calovo.de/impressum)\n\n
 \ncalovo Kalender löschen? Anleitung: termine.de/ical/loeschen
X-ALT-DESC;FMTTYPE=text/html:Liverpool FC 1:2 (0:0) Manchester City<br/><br/>Liverpool FC:<br/>Alisson B
 ecker, Kerkez (90. Chiesa), van Dijk, Konaté, Szoboszlai, Mac Allister, Gra
 venberch, Gakpo (85. Jones), Wirtz, Salah, Ekitiké<br/><br/>Manchester City
 :<br/>Donnarumma, Aït Nouri, Guéhi, Khusanov (61. Rúben Dias), Matheus Nune
 s, OReilly, Rodri, Bernardo Silva, Marmoush (61. Cherki), Haaland, Semenyo 
 (90. Aké)<br/><br/>Tore:<br/>1:0 Szoboszlai (74.)<br/>1:1 Bernardo Silva (8
 4.)<br/>1:2 Haaland (90.)<br/><br/>AKTUELLE NEWS VON SPORT.DE<br/><br/> 	* 
 FC Bayern geht mal wieder leer aus <a href="http://www.sport.de/n/gMUkravD/
 ">http://www.sport.de/n/gMUkravD/</a> <br/><br/> <br/><br/><br/><br/><br/>A
 nbieter-Impressum: <a href="http://calovo.de/impressum">http://calovo.de/im
 pressum</a><br/><br/><br/>calovo Kalender löschen? Anleitung: termine.de/ic
 al/loeschen
DTSTAMP:20260422T180113
DTSTART;TZID=Europe/Berlin:20260208T173000
DTEND;TZID=Europe/Berlin:20260208T193000
SEQUENCE:0
TRANSP:OPAQUE
END:VEVENT
END:VCALENDAR