BEGIN:VCALENDAR
VERSION:2.0
PRODID:-//jEvents 2.0 for Joomla//EN
CALSCALE:GREGORIAN
METHOD:PUBLISH
BEGIN:VTIMEZONE
TZID:Europe/Berlin
BEGIN:STANDARD
DTSTART:20250210T211500
RDATE:20250330T030000
TZOFFSETFROM:+0200
TZOFFSETTO:+0100
TZNAME:Europe/Berlin CET
END:STANDARD
BEGIN:STANDARD
DTSTART:20251026T020000
RDATE:20260329T030000
TZOFFSETFROM:+0200
TZOFFSETTO:+0100
TZNAME:Europe/Berlin CET
END:STANDARD
BEGIN:DAYLIGHT
DTSTART:20250330T030000
RDATE:20251026T020000
TZOFFSETFROM:+0100
TZOFFSETTO:+0200
TZNAME:Europe/Berlin CEST
END:DAYLIGHT
END:VTIMEZONE
BEGIN:VEVENT
UID:68578e683c7f0@2889.calovo
CATEGORIES:Liverpool
CREATED:20250708T130220
SUMMARY:Sunderland AFC 0:1 (0:0) LIV
LOCATION:calovo.de | Stadium of Light (Stadion)\, Sunderland\, England
DESCRIPTION:Sunderland AFC 0:1 (0:0) Liverpool FC\n\nSunderland AFC:\nRoefs, Reinildo, 
 Alderete (80. Geertruida), Ballard, Mukiele, Le Fée, Sadiki, Angulo (80. Mu
 ndle), Diarra (90. Isidor), Hume (80. Talbi), Brobbey\n\nLiverpool FC:\nAli
 sson Becker, Robertson, van Dijk, Konaté, Endō (69. Gomez), Mac Allister, G
 ravenberch, Gakpo (75. Jones), Wirtz, Salah, Ekitiké (88. Chiesa)\n\nTore:\
 n0:1 van Dijk (61.)\n\nAKTUELLE NEWS VON SPORT.DE\n\n 	* Wirtz erhält erste
  Auszeichnung in England http://www.sport.de/n/XzU8g9m0/ (http://www.sport.
 de/n/XzU8g9m0/) \n\n \n\n\n\n\nAnbieter-Impressum: http://calovo.de/impress
 um (http://calovo.de/impressum)\n\n\ncalovo Kalender löschen? Anleitung: te
 rmine.de/ical/loeschen
X-ALT-DESC;FMTTYPE=text/html:Sunderland AFC 0:1 (0:0) Liverpool FC<br/><br/>Sunderland AFC:<br/>Roefs, R
 einildo, Alderete (80. Geertruida), Ballard, Mukiele, Le Fée, Sadiki, Angul
 o (80. Mundle), Diarra (90. Isidor), Hume (80. Talbi), Brobbey<br/><br/>Liv
 erpool FC:<br/>Alisson Becker, Robertson, van Dijk, Konaté, Endō (69. Gomez
 ), Mac Allister, Gravenberch, Gakpo (75. Jones), Wirtz, Salah, Ekitiké (88.
  Chiesa)<br/><br/>Tore:<br/>0:1 van Dijk (61.)<br/><br/>AKTUELLE NEWS VON S
 PORT.DE<br/><br/> 	* Wirtz erhält erste Auszeichnung in England <a href="ht
 tp://www.sport.de/n/XzU8g9m0/">http://www.sport.de/n/XzU8g9m0/</a> <br/><br
 /> <br/><br/><br/><br/><br/>Anbieter-Impressum: <a href="http://calovo.de/i
 mpressum">http://calovo.de/impressum</a><br/><br/><br/>calovo Kalender lösc
 hen? Anleitung: termine.de/ical/loeschen
DTSTAMP:20260422T194342
DTSTART;TZID=Europe/Berlin:20260211T211500
DTEND;TZID=Europe/Berlin:20260211T231500
SEQUENCE:0
TRANSP:OPAQUE
END:VEVENT
END:VCALENDAR