BEGIN:VCALENDAR
VERSION:2.0
PRODID:-//jEvents 2.0 for Joomla//EN
CALSCALE:GREGORIAN
METHOD:PUBLISH
BEGIN:VTIMEZONE
TZID:Europe/Berlin
BEGIN:STANDARD
DTSTART:20250221T150000
RDATE:20250330T030000
TZOFFSETFROM:+0200
TZOFFSETTO:+0100
TZNAME:Europe/Berlin CET
END:STANDARD
BEGIN:STANDARD
DTSTART:20251026T020000
RDATE:20260329T030000
TZOFFSETFROM:+0200
TZOFFSETTO:+0100
TZNAME:Europe/Berlin CET
END:STANDARD
BEGIN:DAYLIGHT
DTSTART:20250330T030000
RDATE:20251026T020000
TZOFFSETFROM:+0100
TZOFFSETTO:+0200
TZNAME:Europe/Berlin CEST
END:DAYLIGHT
END:VTIMEZONE
BEGIN:VEVENT
UID:68578e6a47793@2889.calovo
CATEGORIES:Liverpool
CREATED:20250708T130220
SUMMARY:Nottingham Forest 0:1 (0:0) LIV
LOCATION:calovo.de | City Ground (Stadion)\, Nottingham\, England
DESCRIPTION:Nottingham Forest 0:1 (0:0) Liverpool FC\n\nNottingham Forest:\nOrtega, Wil
 liams, Murillo, Milenković, Aina, Anderson (77. Domínguez), Sangaré, Hudson
 -Odoi (66. Ndoye), Gibbs-White (90. McAtee), Hutchinson (66. Bakwa), Igor J
 esus (77. Lucca)\n\nLiverpool FC:\nAlisson Becker, Kerkez (83. Robertson), 
 van Dijk, Konaté, Szoboszlai, Mac Allister, Gravenberch, Gakpo (77. Chiesa)
 , Salah (77. Ngumoha), Ekitiké, Jones (83. Gomez)\n\nTore:\n0:1 Mac Alliste
 r (90.)\n\nAKTUELLE NEWS VON SPORT.DE\n\n 	* Bewundert der FC Bayern einen 
 Liverpool-Star? http://www.sport.de/n/OXUOXqBR/ (http://www.sport.de/n/OXUO
 XqBR/) \n\n \n\n\n\n\nAnbieter-Impressum: http://calovo.de/impressum (http:
 //calovo.de/impressum)\n\n\ncalovo Kalender löschen? Anleitung: termine.de/
 ical/loeschen
X-ALT-DESC;FMTTYPE=text/html:Nottingham Forest 0:1 (0:0) Liverpool FC<br/><br/>Nottingham Forest:<br/>Or
 tega, Williams, Murillo, Milenković, Aina, Anderson (77. Domínguez), Sangar
 é, Hudson-Odoi (66. Ndoye), Gibbs-White (90. McAtee), Hutchinson (66. Bakwa
 ), Igor Jesus (77. Lucca)<br/><br/>Liverpool FC:<br/>Alisson Becker, Kerkez
  (83. Robertson), van Dijk, Konaté, Szoboszlai, Mac Allister, Gravenberch, 
 Gakpo (77. Chiesa), Salah (77. Ngumoha), Ekitiké, Jones (83. Gomez)<br/><br
 />Tore:<br/>0:1 Mac Allister (90.)<br/><br/>AKTUELLE NEWS VON SPORT.DE<br/>
 <br/> 	* Bewundert der FC Bayern einen Liverpool-Star? <a href="http://www.
 sport.de/n/OXUOXqBR/">http://www.sport.de/n/OXUOXqBR/</a> <br/><br/> <br/><
 br/><br/><br/><br/>Anbieter-Impressum: <a href="http://calovo.de/impressum"
 >http://calovo.de/impressum</a><br/><br/><br/>calovo Kalender löschen? Anle
 itung: termine.de/ical/loeschen
DTSTAMP:20260422T175959
DTSTART;TZID=Europe/Berlin:20260222T150000
DTEND;TZID=Europe/Berlin:20260222T170000
SEQUENCE:0
TRANSP:OPAQUE
END:VEVENT
END:VCALENDAR