BEGIN:VCALENDAR
VERSION:2.0
PRODID:-//jEvents 2.0 for Joomla//EN
CALSCALE:GREGORIAN
METHOD:PUBLISH
BEGIN:VTIMEZONE
TZID:Europe/Berlin
BEGIN:STANDARD
DTSTART:20250227T160000
RDATE:20250330T030000
TZOFFSETFROM:+0200
TZOFFSETTO:+0100
TZNAME:Europe/Berlin CET
END:STANDARD
BEGIN:STANDARD
DTSTART:20251026T020000
RDATE:20260329T030000
TZOFFSETFROM:+0200
TZOFFSETTO:+0100
TZNAME:Europe/Berlin CET
END:STANDARD
BEGIN:DAYLIGHT
DTSTART:20250330T030000
RDATE:20251026T020000
TZOFFSETFROM:+0100
TZOFFSETTO:+0200
TZNAME:Europe/Berlin CEST
END:DAYLIGHT
END:VTIMEZONE
BEGIN:VEVENT
UID:68578e6b1bfdd@2889.calovo
CATEGORIES:Liverpool
CREATED:20250708T130220
SUMMARY:LIV 5:2 (3:0) West Ham United
LOCATION:calovo.de | Anfield (Stadion)\, Liverpool\, England
DESCRIPTION:Liverpool FC 5:2 (3:0) West Ham United<br/><br/>Liverpool FC:<br/>Alisson B
 ecker, Kerkez, van Dijk, Konaté, Gomez (77. Frimpong), Mac Allister, Graven
 berch (86. Nyoni), Gakpo, Szoboszlai, Salah, Ekitiké (76. Ngumoha)<br/><br/
 >West Ham United:<br/>Hermansen, Diouf (90. Mayers), Disasi, Mavropanos, Wa
 n-Bissaka, Summerville, Mateus Fernandes, Souček (90. Kanté), Magassa (76. 
 Adama Traoré), Bowen, Castellanos<br/><br/>Tore:<br/>1:0 Ekitiké (5.)<br/>2
 :0 van Dijk (24.)<br/>3:0 Mac Allister (43.)<br/>3:1 Souček (49.)<br/>4:1 G
 akpo (70.)<br/>4:2 Castellanos (75.)<br/>5:2 Disasi (82.)<br/><br/>AKTUELLE
  NEWS VON SPORT.DE<br/><br/> 	* Olise bleibt Wunschkandidat beim FC Liverpo
 ol <a href="http://www.sport.de/n/q4UqML7P/">http://www.sport.de/n/q4UqML7P
 /</a> <br/><br/> <br/><br/><br/><br/><br/>Anbieter-Impressum: <a href="http
 ://calovo.de/impressum">http://calovo.de/impressum</a><br/><br/><br/>calovo
  Kalender löschen? Anleitung: termine.de/ical/loeschen
DTSTAMP:20260422T194512
DTSTART;TZID=Europe/Berlin:20260228T160000
DTEND;TZID=Europe/Berlin:20260228T180000
SEQUENCE:0
TRANSP:OPAQUE
END:VEVENT
END:VCALENDAR