BEGIN:VCALENDAR
VERSION:2.0
PRODID:-//jEvents 2.0 for Joomla//EN
CALSCALE:GREGORIAN
METHOD:PUBLISH
BEGIN:VTIMEZONE
TZID:Europe/Berlin
BEGIN:STANDARD
DTSTART:20250302T211500
RDATE:20250330T030000
TZOFFSETFROM:+0200
TZOFFSETTO:+0100
TZNAME:Europe/Berlin CET
END:STANDARD
BEGIN:STANDARD
DTSTART:20251026T020000
RDATE:20260329T030000
TZOFFSETFROM:+0200
TZOFFSETTO:+0100
TZNAME:Europe/Berlin CET
END:STANDARD
BEGIN:DAYLIGHT
DTSTART:20250330T030000
RDATE:20251026T020000
TZOFFSETFROM:+0100
TZOFFSETTO:+0200
TZNAME:Europe/Berlin CEST
END:DAYLIGHT
END:VTIMEZONE
BEGIN:VEVENT
UID:68578e6cc0be4@2889.calovo
CATEGORIES:Liverpool
CREATED:20250708T130220
SUMMARY:Wolverhampton Wanderers 2:1 (0:0) LIV
LOCATION:calovo.de | Molineux Stadium (Stadion)\, Wolverhampton\, England
DESCRIPTION:Wolverhampton Wanderers 2:1 (0:0) Liverpool FC\n\nWolverhampton Wanderers:\
 nJosé Sá, Krejčí, Bueno, Doherty (59. Mosquera), Møller Wolfe (79. Hugo Bue
 no), André, João Gomes, Gomes (60. Bellegarde), Tchatchoua, Armstrong (60. 
 Arokodare), Mané (70. Rodrigo Gomes)\n\nLiverpool FC:\nAlisson Becker, Kerk
 ez (65. Robertson), van Dijk, Konaté (79. Chiesa), Frimpong (72. Gomez), Ma
 c Allister, Gravenberch (46. Jones), Gakpo (65. Ngumoha), Szoboszlai, Salah
 , Ekitiké\n\nTore:\n1:0 Rodrigo Gomes (78.)\n1:1 Salah (83.)\n2:1 André (90
 .)\n\nAKTUELLE NEWS VON SPORT.DE\n\n 	* VfB-Verteidiger im Visier: England-
 Teams schicken Scouts http://www.sport.de/n/nYUqX71O/ \n\n \n\n\n\n\nAnbiet
 er-Impressum: http://calovo.de/impressum (http://calovo.de/impressum)\n\n\n
 calovo Kalender löschen? Anleitung: termine.de/ical/loeschen
X-ALT-DESC;FMTTYPE=text/html:Wolverhampton Wanderers 2:1 (0:0) Liverpool FC<br/><br/>Wolverhampton Wande
 rers:<br/>José Sá, Krejčí, Bueno, Doherty (59. Mosquera), Møller Wolfe (79.
  Hugo Bueno), André, João Gomes, Gomes (60. Bellegarde), Tchatchoua, Armstr
 ong (60. Arokodare), Mané (70. Rodrigo Gomes)<br/><br/>Liverpool FC:<br/>Al
 isson Becker, Kerkez (65. Robertson), van Dijk, Konaté (79. Chiesa), Frimpo
 ng (72. Gomez), Mac Allister, Gravenberch (46. Jones), Gakpo (65. Ngumoha),
  Szoboszlai, Salah, Ekitiké<br/><br/>Tore:<br/>1:0 Rodrigo Gomes (78.)<br/>
 1:1 Salah (83.)<br/>2:1 André (90.)<br/><br/>AKTUELLE NEWS VON SPORT.DE<br/
 ><br/> 	* VfB-Verteidiger im Visier: England-Teams schicken Scouts <a href=
 "http://www.sport.de/n/nYUqX71O/">http://www.sport.de/n/nYUqX71O/</a> <br/>
 <br/> <br/><br/><br/><br/><br/>Anbieter-Impressum: <a href="http://calovo.d
 e/impressum">http://calovo.de/impressum</a><br/><br/><br/>calovo Kalender l
 öschen? Anleitung: termine.de/ical/loeschen
DTSTAMP:20260422T180018
DTSTART;TZID=Europe/Berlin:20260303T211500
DTEND;TZID=Europe/Berlin:20260303T231500
SEQUENCE:0
TRANSP:OPAQUE
END:VEVENT
END:VCALENDAR