BEGIN:VCALENDAR
VERSION:2.0
PRODID:-//jEvents 2.0 for Joomla//EN
CALSCALE:GREGORIAN
METHOD:PUBLISH
BEGIN:VTIMEZONE
TZID:Europe/Berlin
BEGIN:STANDARD
DTSTART:20250314T173000
RDATE:20250330T030000
TZOFFSETFROM:+0200
TZOFFSETTO:+0100
TZNAME:Europe/Berlin CET
END:STANDARD
BEGIN:STANDARD
DTSTART:20251026T020000
RDATE:20260329T030000
TZOFFSETFROM:+0200
TZOFFSETTO:+0100
TZNAME:Europe/Berlin CET
END:STANDARD
BEGIN:DAYLIGHT
DTSTART:20250330T030000
RDATE:20251026T020000
TZOFFSETFROM:+0100
TZOFFSETTO:+0200
TZNAME:Europe/Berlin CEST
END:DAYLIGHT
END:VTIMEZONE
BEGIN:VEVENT
UID:68578e6d8149d@2889.calovo
CATEGORIES:Liverpool
CREATED:20250708T130220
SUMMARY:LIV 1:1 (1:0) Tottenham Hotspur
LOCATION:calovo.de | Anfield (Stadion)\, Liverpool\, England
DESCRIPTION:Liverpool FC 1:1 (1:0) Tottenham Hotspur\n\nLiverpool FC:\nAlisson Becker, 
 Robertson, van Dijk, Gomez, Frimpong (64. Salah), Mac Allister (90. Chiesa)
 , Gravenberch, Wirtz (64. Jones), Szoboszlai, Ngumoha (64. Ekitiké), Gakpo 
 (83. Nyoni)\n\nTottenham Hotspur:\nVicario, Drăgușin, Danso, Pedro Porro, S
 ouza (56. Simons), Sarr, Gray, Spence (76. Olusesi), Richarlison (90. Rowsw
 ell), Tel (75. Kolo Muani), Solanke\n\nTore:\n1:0 Szoboszlai (18.)\n1:1 Ric
 harlison (90.)\n\nAKTUELLE NEWS VON SPORT.DE\n\n 	* Alonso-Berater bestätig
 t mehrere Angebote http://www.sport.de/n/xPUKGwky/ (http://www.sport.de/n/x
 PUKGwky/) \n\n \n\n\n\n\nAnbieter-Impressum: http://calovo.de/impressum (ht
 tp://calovo.de/impressum)\n\n\ncalovo Kalender löschen? Anleitung: termine.
 de/ical/loeschen
X-ALT-DESC;FMTTYPE=text/html:Liverpool FC 1:1 (1:0) Tottenham Hotspur<br/><br/>Liverpool FC:<br/>Alisson
  Becker, Robertson, van Dijk, Gomez, Frimpong (64. Salah), Mac Allister (90
 . Chiesa), Gravenberch, Wirtz (64. Jones), Szoboszlai, Ngumoha (64. Ekitiké
 ), Gakpo (83. Nyoni)<br/><br/>Tottenham Hotspur:<br/>Vicario, Drăgușin, Dan
 so, Pedro Porro, Souza (56. Simons), Sarr, Gray, Spence (76. Olusesi), Rich
 arlison (90. Rowswell), Tel (75. Kolo Muani), Solanke<br/><br/>Tore:<br/>1:
 0 Szoboszlai (18.)<br/>1:1 Richarlison (90.)<br/><br/>AKTUELLE NEWS VON SPO
 RT.DE<br/><br/> 	* Alonso-Berater bestätigt mehrere Angebote <a href="http:
 //www.sport.de/n/xPUKGwky/">http://www.sport.de/n/xPUKGwky/</a> <br/><br/> 
 <br/><br/><br/><br/><br/>Anbieter-Impressum: <a href="http://calovo.de/impr
 essum">http://calovo.de/impressum</a><br/><br/><br/>calovo Kalender löschen
 ? Anleitung: termine.de/ical/loeschen
DTSTAMP:20260422T174126
DTSTART;TZID=Europe/Berlin:20260315T173000
DTEND;TZID=Europe/Berlin:20260315T193000
SEQUENCE:0
TRANSP:OPAQUE
END:VEVENT
END:VCALENDAR