BEGIN:VCALENDAR
VERSION:2.0
PRODID:-//jEvents 2.0 for Joomla//EN
CALSCALE:GREGORIAN
METHOD:PUBLISH
BEGIN:VTIMEZONE
TZID:Europe/Berlin
BEGIN:STANDARD
DTSTART:20250320T134500
RDATE:20250330T030000
TZOFFSETFROM:+0200
TZOFFSETTO:+0100
TZNAME:Europe/Berlin CET
END:STANDARD
BEGIN:STANDARD
DTSTART:20251026T020000
RDATE:20260329T030000
TZOFFSETFROM:+0200
TZOFFSETTO:+0100
TZNAME:Europe/Berlin CET
END:STANDARD
BEGIN:DAYLIGHT
DTSTART:20250330T030000
RDATE:20251026T020000
TZOFFSETFROM:+0100
TZOFFSETTO:+0200
TZNAME:Europe/Berlin CEST
END:DAYLIGHT
END:VTIMEZONE
BEGIN:VEVENT
UID:68578e6e4bf2b@2889.calovo
CATEGORIES:Liverpool
CREATED:20250708T130220
SUMMARY:Brighton & Hove Albion 2:1 (1:1) LIV
LOCATION:calovo.de | Amex Stadium (Stadion)\, Brighton\, England
DESCRIPTION:Brighton &amp; Hove Albion 2:1 (1:1) Liverpool FC\n\nBrighton &amp; Hove Al
 bion:\nVerbruggen, Kadıoğlu, Dunk, van Hecke, Wieffer, Groß, Milner (76. Ba
 leba), Minteh (76. Mitoma), Hinshelwood (83. Ayari), Gómez (90. Veltman), W
 elbeck (83. Rutter)\n\nLiverpool FC:\nMamardashvili, Kerkez (76. Robertson)
 , van Dijk, Konaté (77. Chiesa), Frimpong (63. Ngumoha), Mac Allister, Grav
 enberch, Gakpo, Szoboszlai, Wirtz, Ekitiké (8. Jones)\n\nTore:\n1:0 Welbeck
  (14.)\n1:1 Kerkez (30.)\n2:1 Welbeck (56.)\n\nAKTUELLE NEWS VON SPORT.DE\n
 \n 	* FC Liverpool beklagt Rassismus gegen Konaté http://www.sport.de/n/VzU
 qg0PM/ (http://www.sport.de/n/VzUqg0PM/) \n\n \n\n\n\n\nAnbieter-Impressum:
  http://calovo.de/impressum (http://calovo.de/impressum)\n\n\ncalovo Kalend
 er löschen? Anleitung: termine.de/ical/loeschen
X-ALT-DESC;FMTTYPE=text/html:Brighton & Hove Albion 2:1 (1:1) Liverpool FC<br/><br/>Brighton & Hove Albi
 on:<br/>Verbruggen, Kadıoğlu, Dunk, van Hecke, Wieffer, Groß, Milner (76. B
 aleba), Minteh (76. Mitoma), Hinshelwood (83. Ayari), Gómez (90. Veltman), 
 Welbeck (83. Rutter)<br/><br/>Liverpool FC:<br/>Mamardashvili, Kerkez (76. 
 Robertson), van Dijk, Konaté (77. Chiesa), Frimpong (63. Ngumoha), Mac Alli
 ster, Gravenberch, Gakpo, Szoboszlai, Wirtz, Ekitiké (8. Jones)<br/><br/>To
 re:<br/>1:0 Welbeck (14.)<br/>1:1 Kerkez (30.)<br/>2:1 Welbeck (56.)<br/><b
 r/>AKTUELLE NEWS VON SPORT.DE<br/><br/> 	* FC Liverpool beklagt Rassismus g
 egen Konaté <a href="http://www.sport.de/n/VzUqg0PM/">http://www.sport.de/n
 /VzUqg0PM/</a> <br/><br/> <br/><br/><br/><br/><br/>Anbieter-Impressum: <a h
 ref="http://calovo.de/impressum">http://calovo.de/impressum</a><br/><br/><b
 r/>calovo Kalender löschen? Anleitung: termine.de/ical/loeschen
DTSTAMP:20260422T174126
DTSTART;TZID=Europe/Berlin:20260321T134500
DTEND;TZID=Europe/Berlin:20260321T154500
SEQUENCE:0
TRANSP:OPAQUE
END:VEVENT
END:VCALENDAR