BEGIN:VCALENDAR
VERSION:2.0
PRODID:-//jEvents 2.0 for Joomla//EN
CALSCALE:GREGORIAN
METHOD:PUBLISH
BEGIN:VTIMEZONE
TZID:Europe/Berlin
BEGIN:STANDARD
DTSTART:20251026T020000
RDATE:20260329T030000
TZOFFSETFROM:+0200
TZOFFSETTO:+0100
TZNAME:Europe/Berlin CET
END:STANDARD
BEGIN:DAYLIGHT
DTSTART:20250410T183000
RDATE:20251026T020000
TZOFFSETFROM:+0100
TZOFFSETTO:+0200
TZNAME:Europe/Berlin CEST
END:DAYLIGHT
END:VTIMEZONE
BEGIN:VEVENT
UID:68578e6fb75c1@2889.calovo
CATEGORIES:Liverpool
CREATED:20250708T130220
SUMMARY:LIV 2:0 (2:0) Fulham FC
LOCATION:calovo.de | Anfield (Stadion)\, Liverpool\, England
DESCRIPTION:Liverpool FC 2:0 (2:0) Fulham FC<br/><br/>Liverpool FC:<br/>Mamardashvili, 
 Robertson, van Dijk, Konaté, Frimpong (69. Gomez), Jones (46. Gravenberch),
  Szoboszlai, Ngumoha (69. Isak), Wirtz (68. Mac Allister), Salah (90. Nyoni
 ), Gakpo<br/><br/>Fulham FC:<br/>Leno, Robinson (69. Sessegnon), Bassey, An
 dersen, Castagne, Berge, Iwobi, Bobb (46. Lukić), King (46. Smith Rowe), Wi
 lson (80. Chukwueze), Rodrigo Muniz (80. Jiménez)<br/><br/>Tore:<br/>1:0 Ng
 umoha (36.)<br/>2:0 Salah (40.)<br/><br/>AKTUELLE NEWS VON SPORT.DE<br/><br
 /> 	* LFC-Ikone über Olise: "Warum sollte er Bayern verlassen?" <a href="ht
 tp://www.sport.de/n/GZUB39jQ/">http://www.sport.de/n/GZUB39jQ/</a> <br/><br
 /> <br/><br/><br/><br/><br/>Anbieter-Impressum: <a href="http://calovo.de/i
 mpressum">http://calovo.de/impressum</a><br/><br/><br/>calovo Kalender lösc
 hen? Anleitung: termine.de/ical/loeschen
DTSTAMP:20260422T174124
DTSTART;TZID=Europe/Berlin:20260411T183000
DTEND;TZID=Europe/Berlin:20260411T203000
SEQUENCE:0
TRANSP:OPAQUE
END:VEVENT
END:VCALENDAR