BEGIN:VCALENDAR
VERSION:2.0
PRODID:-//jEvents 2.0 for Joomla//EN
CALSCALE:GREGORIAN
METHOD:PUBLISH
BEGIN:VTIMEZONE
TZID:Europe/Berlin
BEGIN:STANDARD
DTSTART:20251026T020000
RDATE:20260329T030000
TZOFFSETFROM:+0200
TZOFFSETTO:+0100
TZNAME:Europe/Berlin CET
END:STANDARD
BEGIN:DAYLIGHT
DTSTART:20250418T150000
RDATE:20251026T020000
TZOFFSETFROM:+0100
TZOFFSETTO:+0200
TZNAME:Europe/Berlin CEST
END:DAYLIGHT
END:VTIMEZONE
BEGIN:VEVENT
UID:68578e70a4ca4@2889.calovo
CATEGORIES:Liverpool
CREATED:20250708T130220
SUMMARY:Everton FC 1:2 (0:1) LIV
LOCATION:calovo.de | Hill Dickinson Stadium (Stadion)\, Liverpool\, England
DESCRIPTION:Everton FC 1:2 (0:1) Liverpool FC\n\nEverton FC:\nPickford, Mykolenko, Bran
 thwaite (87. Keane), Tarkowski, OBrien, Garner, Gueye, Ndiaye, Dewsbury-Hal
 l, McNeil (80. George), Beto (73. Barry)\n\nLiverpool FC:\nMamardashvili (5
 8. Woodman), Robertson (86. Kerkez), van Dijk, Konaté, Szoboszlai, Jones, G
 ravenberch, Gakpo (84. Frimpong), Wirtz (84. Mac Allister), Salah, Isak (72
 . Ngumoha)\n\nTore:\n0:1 Salah (29.)\n1:1 Beto (54.)\n1:2 van Dijk (90.)\n\
 nAKTUELLE NEWS VON SPORT.DE\n\n 	* BVB droht Transfer-Rückschlag http://www
 .sport.de/n/XzU8RBor/ (http://www.sport.de/n/XzU8RBor/) \n\n \n\n\n\n\nAnbi
 eter-Impressum: http://calovo.de/impressum (http://calovo.de/impressum)\n\n
 \ncalovo Kalender löschen? Anleitung: termine.de/ical/loeschen
X-ALT-DESC;FMTTYPE=text/html:Everton FC 1:2 (0:1) Liverpool FC<br/><br/>Everton FC:<br/>Pickford, Mykole
 nko, Branthwaite (87. Keane), Tarkowski, OBrien, Garner, Gueye, Ndiaye, Dew
 sbury-Hall, McNeil (80. George), Beto (73. Barry)<br/><br/>Liverpool FC:<br
 />Mamardashvili (58. Woodman), Robertson (86. Kerkez), van Dijk, Konaté, Sz
 oboszlai, Jones, Gravenberch, Gakpo (84. Frimpong), Wirtz (84. Mac Allister
 ), Salah, Isak (72. Ngumoha)<br/><br/>Tore:<br/>0:1 Salah (29.)<br/>1:1 Bet
 o (54.)<br/>1:2 van Dijk (90.)<br/><br/>AKTUELLE NEWS VON SPORT.DE<br/><br/
 > 	* BVB droht Transfer-Rückschlag <a href="http://www.sport.de/n/XzU8RBor/
 ">http://www.sport.de/n/XzU8RBor/</a> <br/><br/> <br/><br/><br/><br/><br/>A
 nbieter-Impressum: <a href="http://calovo.de/impressum">http://calovo.de/im
 pressum</a><br/><br/><br/>calovo Kalender löschen? Anleitung: termine.de/ic
 al/loeschen
DTSTAMP:20260422T174126
DTSTART;TZID=Europe/Berlin:20260419T150000
DTEND;TZID=Europe/Berlin:20260419T170000
SEQUENCE:0
TRANSP:OPAQUE
END:VEVENT
END:VCALENDAR