BEGIN:VCALENDAR
VERSION:2.0
PRODID:-//jEvents 2.0 for Joomla//EN
CALSCALE:GREGORIAN
METHOD:PUBLISH
BEGIN:VTIMEZONE
TZID:Europe/Berlin
BEGIN:STANDARD
DTSTART:20241027T020000
RDATE:20250330T030000
TZOFFSETFROM:+0200
TZOFFSETTO:+0100
TZNAME:Europe/Berlin CET
END:STANDARD
BEGIN:STANDARD
DTSTART:20251026T020000
RDATE:20260329T030000
TZOFFSETFROM:+0200
TZOFFSETTO:+0100
TZNAME:Europe/Berlin CET
END:STANDARD
BEGIN:DAYLIGHT
DTSTART:20240916T210000
RDATE:20241027T020000
TZOFFSETFROM:+0100
TZOFFSETTO:+0200
TZNAME:Europe/Berlin CEST
END:DAYLIGHT
BEGIN:DAYLIGHT
DTSTART:20250330T030000
RDATE:20251026T020000
TZOFFSETFROM:+0100
TZOFFSETTO:+0200
TZNAME:Europe/Berlin CEST
END:DAYLIGHT
END:VTIMEZONE
BEGIN:VEVENT
UID:68b3d7120dbe9@2889.calovo
CATEGORIES:Liverpool
CREATED:20250921T090340
SUMMARY:LIV 3:2 (2:1) Atlético Madrid
LOCATION:calovo.de | Anfield (Stadion)\, Liverpool\, England
DESCRIPTION:Liverpool FC 3:2 (2:1) Atlético Madrid\n\nLiverpool FC:\nAlisson Becker, Fr
 impong (58. Bradley), Gakpo (58. Mac Allister), Gravenberch, Isak (58. Ekit
 iké), Konaté, Robertson (86. Kerkez), Salah, Szoboszlai, van Dijk, Wirtz (7
 4. Ngumoha)\n\nAtlético Madrid:\nGallagher (61. Molina), González (76. Marc
  Pubill), Griezmann (61. Sørloth), Javi Galán, Le Normand, Lenglet, Marcos 
 Llorente, Oblak, Pablo Barrios, Raspadori (52. Koke), Simeone\n\nTore:\n1:0
  Robertson (4.)\n2:0 Salah (6.)\n2:1 Marcos Llorente (45.)\n2:2 Marcos Llor
 ente (81.)\n3:2 van Dijk (90.)\n\nAKTUELLE NEWS VON SPORT.DE\n\n 	* Später 
 Treffer rettet Liverpools perfekten Start http://www.sport.de/n/RXUXLzR4/ (
 http://www.sport.de/n/RXUXLzR4/) \n\n \n\n\n\n\nAnbieter-Impressum: http://
 calovo.de/impressum (http://calovo.de/impressum)\n\n\ncalovo Kalender lösch
 en? Anleitung: termine.de/ical/loeschen
X-ALT-DESC;FMTTYPE=text/html:Liverpool FC 3:2 (2:1) Atlético Madrid<br/><br/>Liverpool FC:<br/>Alisson B
 ecker, Frimpong (58. Bradley), Gakpo (58. Mac Allister), Gravenberch, Isak 
 (58. Ekitiké), Konaté, Robertson (86. Kerkez), Salah, Szoboszlai, van Dijk,
  Wirtz (74. Ngumoha)<br/><br/>Atlético Madrid:<br/>Gallagher (61. Molina), 
 González (76. Marc Pubill), Griezmann (61. Sørloth), Javi Galán, Le Normand
 , Lenglet, Marcos Llorente, Oblak, Pablo Barrios, Raspadori (52. Koke), Sim
 eone<br/><br/>Tore:<br/>1:0 Robertson (4.)<br/>2:0 Salah (6.)<br/>2:1 Marco
 s Llorente (45.)<br/>2:2 Marcos Llorente (81.)<br/>3:2 van Dijk (90.)<br/><
 br/>AKTUELLE NEWS VON SPORT.DE<br/><br/> 	* Später Treffer rettet Liverpool
 s perfekten Start <a href="http://www.sport.de/n/RXUXLzR4/">http://www.spor
 t.de/n/RXUXLzR4/</a> <br/><br/> <br/><br/><br/><br/><br/>Anbieter-Impressum
 : <a href="http://calovo.de/impressum">http://calovo.de/impressum</a><br/><
 br/><br/>calovo Kalender löschen? Anleitung: termine.de/ical/loeschen
DTSTAMP:20260422T230631
DTSTART;TZID=Europe/Berlin:20250917T210000
DTEND;TZID=Europe/Berlin:20250917T230000
SEQUENCE:0
TRANSP:OPAQUE
END:VEVENT
END:VCALENDAR