BEGIN:VCALENDAR
VERSION:2.0
PRODID:-//jEvents 2.0 for Joomla//EN
CALSCALE:GREGORIAN
METHOD:PUBLISH
BEGIN:VTIMEZONE
TZID:Europe/Berlin
BEGIN:STANDARD
DTSTART:20241027T020000
RDATE:20250330T030000
TZOFFSETFROM:+0200
TZOFFSETTO:+0100
TZNAME:Europe/Berlin CET
END:STANDARD
BEGIN:STANDARD
DTSTART:20251026T020000
RDATE:20260329T030000
TZOFFSETFROM:+0200
TZOFFSETTO:+0100
TZNAME:Europe/Berlin CET
END:STANDARD
BEGIN:DAYLIGHT
DTSTART:20240922T210000
RDATE:20241027T020000
TZOFFSETFROM:+0100
TZOFFSETTO:+0200
TZNAME:Europe/Berlin CEST
END:DAYLIGHT
BEGIN:DAYLIGHT
DTSTART:20250330T030000
RDATE:20251026T020000
TZOFFSETFROM:+0100
TZOFFSETTO:+0200
TZNAME:Europe/Berlin CEST
END:DAYLIGHT
END:VTIMEZONE
BEGIN:VEVENT
UID:68b029c1c7cc6@2889.calovo
CATEGORIES:Liverpool
CREATED:20250921T090340
SUMMARY:LIV 2:1 (1:0) Southampton FC
LOCATION:calovo.de
DESCRIPTION:Liverpool FC 2:1 (1:0) Southampton FC\n\nLiverpool FC:\nChiesa, Endō, Frimp
 ong, Gomez, Isak (46. Ekitiké), Jones (57. Bradley), Leoni (81. Kerkez), Ma
 mardashvili, Ngumoha (75. Danns), Nyoni, Robertson\n\nSouthampton FC:\nArch
 er (51. Downs), Armstrong, Downes, Edwards (88. Stewart), Jander (51. Charl
 es), Jelert (88. Fellows), Léo Scienza (62. Robinson), Manning, McCarthy, Q
 uarshie, Wood\n\nTore:\n1:0 Isak (43.)\n1:1 Charles (76.)\n2:1 Ekitiké (85.
 )\n\nAKTUELLE NEWS VON SPORT.DE\n\n 	* Wilde Gerüchte um Virgil van Dijk ht
 tp://www.sport.de/n/jmU081M6/ \n\n \n\n\n\n\nAnbieter-Impressum: http://cal
 ovo.de/impressum (http://calovo.de/impressum)\n\n\ncalovo Kalender löschen?
  Anleitung: termine.de/ical/loeschen
X-ALT-DESC;FMTTYPE=text/html:Liverpool FC 2:1 (1:0) Southampton FC<br/><br/>Liverpool FC:<br/>Chiesa, En
 dō, Frimpong, Gomez, Isak (46. Ekitiké), Jones (57. Bradley), Leoni (81. Ke
 rkez), Mamardashvili, Ngumoha (75. Danns), Nyoni, Robertson<br/><br/>Southa
 mpton FC:<br/>Archer (51. Downs), Armstrong, Downes, Edwards (88. Stewart),
  Jander (51. Charles), Jelert (88. Fellows), Léo Scienza (62. Robinson), Ma
 nning, McCarthy, Quarshie, Wood<br/><br/>Tore:<br/>1:0 Isak (43.)<br/>1:1 C
 harles (76.)<br/>2:1 Ekitiké (85.)<br/><br/>AKTUELLE NEWS VON SPORT.DE<br/>
 <br/> 	* Wilde Gerüchte um Virgil van Dijk <a href="http://www.sport.de/n/j
 mU081M6/">http://www.sport.de/n/jmU081M6/</a> <br/><br/> <br/><br/><br/><br
 /><br/>Anbieter-Impressum: <a href="http://calovo.de/impressum">http://calo
 vo.de/impressum</a><br/><br/><br/>calovo Kalender löschen? Anleitung: termi
 ne.de/ical/loeschen
DTSTAMP:20260422T194440
DTSTART;TZID=Europe/Berlin:20250923T210000
DTEND;TZID=Europe/Berlin:20250923T230000
SEQUENCE:0
TRANSP:OPAQUE
END:VEVENT
END:VCALENDAR