BEGIN:VCALENDAR
VERSION:2.0
PRODID:-//jEvents 2.0 for Joomla//EN
CALSCALE:GREGORIAN
METHOD:PUBLISH
BEGIN:VTIMEZONE
TZID:Europe/Berlin
BEGIN:STANDARD
DTSTART:20241027T020000
RDATE:20250330T030000
TZOFFSETFROM:+0200
TZOFFSETTO:+0100
TZNAME:Europe/Berlin CET
END:STANDARD
BEGIN:STANDARD
DTSTART:20251026T020000
RDATE:20260329T030000
TZOFFSETFROM:+0200
TZOFFSETTO:+0100
TZNAME:Europe/Berlin CET
END:STANDARD
BEGIN:DAYLIGHT
DTSTART:20240929T210000
RDATE:20241027T020000
TZOFFSETFROM:+0100
TZOFFSETTO:+0200
TZNAME:Europe/Berlin CEST
END:DAYLIGHT
BEGIN:DAYLIGHT
DTSTART:20250330T030000
RDATE:20251026T020000
TZOFFSETFROM:+0100
TZOFFSETTO:+0200
TZNAME:Europe/Berlin CEST
END:DAYLIGHT
END:VTIMEZONE
BEGIN:VEVENT
UID:68b3d7159d23d@2889.calovo
CATEGORIES:Liverpool
CREATED:20250921T090340
SUMMARY:Galatasaray 1:0 (1:0) LIV
LOCATION:calovo.de | Rams Park (Stadion)\, Istanbul\, Türkei
DESCRIPTION:Galatasaray 1:0 (1:0) Liverpool FC<br/><br/>Galatasaray:<br/>Akgün (72. Sal
 lai), Bardakçı, Çakır, Gündoğan (75. Gabriel Sara), Jakobs, Lemina, Osimhen
  (72. Icardi), Sánchez, Singo, Torreira, Yılmaz (85. Elmalı)<br/><br/>Liver
 pool FC:<br/>Alisson Becker (56. Mamardashvili), Ekitiké (68. Mac Allister)
 , Frimpong (62. Bradley), Gakpo (62. Salah), Gravenberch (62. Isak), Jones,
  Kerkez, Konaté, Szoboszlai, van Dijk, Wirtz<br/><br/>Tore:<br/>1:0 Osimhen
  (16.)<br/><br/>AKTUELLE NEWS VON SPORT.DE<br/><br/> 	* Heftige Abreibung f
 ür Wirtz: "Schadet dem Gleichgewicht" <a href="http://www.sport.de/n/GZU8Xv
 Ax/">http://www.sport.de/n/GZU8XvAx/</a> <br/><br/> <br/><br/><br/><br/><br
 />Anbieter-Impressum: <a href="http://calovo.de/impressum">http://calovo.de
 /impressum</a><br/><br/><br/>calovo Kalender löschen? Anleitung: termine.de
 /ical/loeschen
DTSTAMP:20260422T194620
DTSTART;TZID=Europe/Berlin:20250930T210000
DTEND;TZID=Europe/Berlin:20250930T230000
SEQUENCE:0
TRANSP:OPAQUE
END:VEVENT
END:VCALENDAR