BEGIN:VCALENDAR
VERSION:2.0
PRODID:-//jEvents 2.0 for Joomla//EN
CALSCALE:GREGORIAN
METHOD:PUBLISH
BEGIN:VTIMEZONE
TZID:Europe/Berlin
BEGIN:STANDARD
DTSTART:20241027T020000
RDATE:20250330T030000
TZOFFSETFROM:+0200
TZOFFSETTO:+0100
TZNAME:Europe/Berlin CET
END:STANDARD
BEGIN:STANDARD
DTSTART:20251026T020000
RDATE:20260329T030000
TZOFFSETFROM:+0200
TZOFFSETTO:+0100
TZNAME:Europe/Berlin CET
END:STANDARD
BEGIN:DAYLIGHT
DTSTART:20241021T210000
RDATE:20241027T020000
TZOFFSETFROM:+0100
TZOFFSETTO:+0200
TZNAME:Europe/Berlin CEST
END:DAYLIGHT
BEGIN:DAYLIGHT
DTSTART:20250330T030000
RDATE:20251026T020000
TZOFFSETFROM:+0100
TZOFFSETTO:+0200
TZNAME:Europe/Berlin CEST
END:DAYLIGHT
END:VTIMEZONE
BEGIN:VEVENT
UID:68b3d71c3f514@2889.calovo
CATEGORIES:Liverpool
CREATED:20250921T090340
SUMMARY:Eintracht Frankfurt 1:5 (1:3) LIV
LOCATION:calovo.de | Deutsche Bank Park (Stadion)\, Frankfurt am Main\, Deutschland
DESCRIPTION:Eintracht Frankfurt 1:5 (1:3) Liverpool FC<br/><br/>Eintracht Frankfurt:<br
 />Amenda, Bahoya (59. Burkardt), Brown, Dōan (64. Chaïbi), Götze (64. Uzun)
 , Knauff (76. Skhiri), Koch, Kristensen (59. Collins), Larsson, Theate, Zet
 terer<br/><br/>Liverpool FC:<br/>Ekitiké (74. Salah), Frimpong (19. Bradley
 ), Gakpo (74. Mac Allister), Isak (46. Chiesa), Jones, Konaté (74. Gomez), 
 Mamardashvili, Robertson, Szoboszlai, van Dijk, Wirtz<br/><br/>Tore:<br/>1:
 0 Kristensen (26.)<br/>1:1 Ekitiké (35.)<br/>1:2 van Dijk (39.)<br/>1:3 Kon
 até (44.)<br/>1:4 Gakpo (66.)<br/>1:5 Szoboszlai (70.)<br/><br/><br/><br/><
 br/><br/>Anbieter-Impressum: <a href="http://calovo.de/impressum">http://ca
 lovo.de/impressum</a><br/><br/><br/>calovo Kalender löschen? Anleitung: ter
 mine.de/ical/loeschen
DTSTAMP:20260422T194444
DTSTART;TZID=Europe/Berlin:20251022T210000
DTEND;TZID=Europe/Berlin:20251022T230000
SEQUENCE:0
TRANSP:OPAQUE
END:VEVENT
END:VCALENDAR