BEGIN:VCALENDAR
VERSION:2.0
PRODID:-//jEvents 2.0 for Joomla//EN
CALSCALE:GREGORIAN
METHOD:PUBLISH
BEGIN:VTIMEZONE
TZID:Europe/Berlin
BEGIN:STANDARD
DTSTART:20241103T210000
RDATE:20250330T030000
TZOFFSETFROM:+0200
TZOFFSETTO:+0100
TZNAME:Europe/Berlin CET
END:STANDARD
BEGIN:STANDARD
DTSTART:20251026T020000
RDATE:20260329T030000
TZOFFSETFROM:+0200
TZOFFSETTO:+0100
TZNAME:Europe/Berlin CET
END:STANDARD
BEGIN:DAYLIGHT
DTSTART:20250330T030000
RDATE:20251026T020000
TZOFFSETFROM:+0100
TZOFFSETTO:+0200
TZNAME:Europe/Berlin CEST
END:DAYLIGHT
END:VTIMEZONE
BEGIN:VEVENT
UID:68b3d71dd0cf7@2889.calovo
CATEGORIES:Liverpool
CREATED:20250921T090340
SUMMARY:LIV 1:0 (0:0) Real Madrid
LOCATION:calovo.de | Anfield (Stadion)\, Liverpool\, England
DESCRIPTION:Liverpool FC 1:0 (0:0) Real Madrid\n\nLiverpool FC:\nBradley, Ekitiké (78. 
 Gakpo), Gravenberch, Konaté, Mac Allister (78. Jones), Mamardashvili, Rober
 tson (88. Kerkez), Salah, Szoboszlai, van Dijk, Wirtz (88. Chiesa)\n\nReal 
 Madrid:\nÁlvaro Carreras, Bellingham, Camavinga (69. Rodrygo), Courtois, Ed
 er Militão, Güler (81. Alexander-Arnold), Huijsen, Mbappé, Tchouaméni, Valv
 erde (90. Brahim Díaz), Vinícius Junior\n\nTore:\n1:0 Mac Allister (61.)\n\
 nAKTUELLE NEWS VON SPORT.DE\n\n 	* Ausgerechnet ohne Wirtz ist Liverpool wi
 eder "da" http://www.sport.de/n/wLUdVvDy/ (http://www.sport.de/n/wLUdVvDy/)
  \n\n \n\n\n\n\nAnbieter-Impressum: http://calovo.de/impressum (http://calo
 vo.de/impressum)\n\n\ncalovo Kalender löschen? Anleitung: termine.de/ical/l
 oeschen
X-ALT-DESC;FMTTYPE=text/html:Liverpool FC 1:0 (0:0) Real Madrid<br/><br/>Liverpool FC:<br/>Bradley, Ekit
 iké (78. Gakpo), Gravenberch, Konaté, Mac Allister (78. Jones), Mamardashvi
 li, Robertson (88. Kerkez), Salah, Szoboszlai, van Dijk, Wirtz (88. Chiesa)
 <br/><br/>Real Madrid:<br/>Álvaro Carreras, Bellingham, Camavinga (69. Rodr
 ygo), Courtois, Eder Militão, Güler (81. Alexander-Arnold), Huijsen, Mbappé
 , Tchouaméni, Valverde (90. Brahim Díaz), Vinícius Junior<br/><br/>Tore:<br
 />1:0 Mac Allister (61.)<br/><br/>AKTUELLE NEWS VON SPORT.DE<br/><br/> 	* A
 usgerechnet ohne Wirtz ist Liverpool wieder "da" <a href="http://www.sport.
 de/n/wLUdVvDy/">http://www.sport.de/n/wLUdVvDy/</a> <br/><br/> <br/><br/><b
 r/><br/><br/>Anbieter-Impressum: <a href="http://calovo.de/impressum">http:
 //calovo.de/impressum</a><br/><br/><br/>calovo Kalender löschen? Anleitung:
  termine.de/ical/loeschen
DTSTAMP:20260422T212925
DTSTART;TZID=Europe/Berlin:20251104T210000
DTEND;TZID=Europe/Berlin:20251104T230000
SEQUENCE:0
TRANSP:OPAQUE
END:VEVENT
END:VCALENDAR