BEGIN:VCALENDAR
VERSION:2.0
PRODID:-//jEvents 2.0 for Joomla//EN
CALSCALE:GREGORIAN
METHOD:PUBLISH
BEGIN:VTIMEZONE
TZID:Europe/Berlin
BEGIN:STANDARD
DTSTART:20241125T210000
RDATE:20250330T030000
TZOFFSETFROM:+0200
TZOFFSETTO:+0100
TZNAME:Europe/Berlin CET
END:STANDARD
BEGIN:STANDARD
DTSTART:20251026T020000
RDATE:20260329T030000
TZOFFSETFROM:+0200
TZOFFSETTO:+0100
TZNAME:Europe/Berlin CET
END:STANDARD
BEGIN:DAYLIGHT
DTSTART:20250330T030000
RDATE:20251026T020000
TZOFFSETFROM:+0100
TZOFFSETTO:+0200
TZNAME:Europe/Berlin CEST
END:DAYLIGHT
END:VTIMEZONE
BEGIN:VEVENT
UID:68b3d723c48b2@2889.calovo
CATEGORIES:Liverpool
CREATED:20250921T090340
SUMMARY:LIV 1:4 (1:1) PSV Eindhoven
LOCATION:calovo.de | Anfield (Stadion)\, Liverpool\, England
DESCRIPTION:Liverpool FC 1:4 (1:1) PSV Eindhoven\n\nLiverpool FC:\nEkitiké (61. Isak), 
 Gakpo, Gravenberch, Jones, Kerkez, Konaté (76. Chiesa), Mac Allister, Mamar
 dashvili, Salah, Szoboszlai, van Dijk\n\nPSV Eindhoven:\nDest, Kovář, Man (
 89. Bajraktarević), Mauro Júnior, Perišić (69. Driouech), Saibari, Salah-Ed
 dine, Schouten, Til (69. Pepi), Veerman, Yarek Gąsiorowski\n\nTore:\n0:1 Pe
 rišić (6.)\n1:1 Szoboszlai (16.)\n1:2 Til (56.)\n1:3 Driouech (73.)\n1:4 Dr
 iouech (90.)\n\nAKTUELLE NEWS VON SPORT.DE\n\n 	* Weitere Top-Klubs nehmen 
 RB-Youngster ins Visier http://www.sport.de/n/8dUdomda/ (http://www.sport.d
 e/n/8dUdomda/) \n\n \n\n\n\n\nAnbieter-Impressum: http://calovo.de/impressu
 m (http://calovo.de/impressum)\n\n\ncalovo Kalender löschen? Anleitung: ter
 mine.de/ical/loeschen
X-ALT-DESC;FMTTYPE=text/html:Liverpool FC 1:4 (1:1) PSV Eindhoven<br/><br/>Liverpool FC:<br/>Ekitiké (61
 . Isak), Gakpo, Gravenberch, Jones, Kerkez, Konaté (76. Chiesa), Mac Allist
 er, Mamardashvili, Salah, Szoboszlai, van Dijk<br/><br/>PSV Eindhoven:<br/>
 Dest, Kovář, Man (89. Bajraktarević), Mauro Júnior, Perišić (69. Driouech),
  Saibari, Salah-Eddine, Schouten, Til (69. Pepi), Veerman, Yarek Gąsiorowsk
 i<br/><br/>Tore:<br/>0:1 Perišić (6.)<br/>1:1 Szoboszlai (16.)<br/>1:2 Til 
 (56.)<br/>1:3 Driouech (73.)<br/>1:4 Driouech (90.)<br/><br/>AKTUELLE NEWS 
 VON SPORT.DE<br/><br/> 	* Weitere Top-Klubs nehmen RB-Youngster ins Visier 
 <a href="http://www.sport.de/n/8dUdomda/">http://www.sport.de/n/8dUdomda/</
 a> <br/><br/> <br/><br/><br/><br/><br/>Anbieter-Impressum: <a href="http://
 calovo.de/impressum">http://calovo.de/impressum</a><br/><br/><br/>calovo Ka
 lender löschen? Anleitung: termine.de/ical/loeschen
DTSTAMP:20260422T194343
DTSTART;TZID=Europe/Berlin:20251126T210000
DTEND;TZID=Europe/Berlin:20251126T230000
SEQUENCE:0
TRANSP:OPAQUE
END:VEVENT
END:VCALENDAR