BEGIN:VCALENDAR
VERSION:2.0
PRODID:-//jEvents 2.0 for Joomla//EN
CALSCALE:GREGORIAN
METHOD:PUBLISH
BEGIN:VTIMEZONE
TZID:Europe/Berlin
BEGIN:STANDARD
DTSTART:20241208T210000
RDATE:20250330T030000
TZOFFSETFROM:+0200
TZOFFSETTO:+0100
TZNAME:Europe/Berlin CET
END:STANDARD
BEGIN:STANDARD
DTSTART:20251026T020000
RDATE:20260329T030000
TZOFFSETFROM:+0200
TZOFFSETTO:+0100
TZNAME:Europe/Berlin CET
END:STANDARD
BEGIN:DAYLIGHT
DTSTART:20250330T030000
RDATE:20251026T020000
TZOFFSETFROM:+0100
TZOFFSETTO:+0200
TZNAME:Europe/Berlin CEST
END:DAYLIGHT
END:VTIMEZONE
BEGIN:VEVENT
UID:68b3d7253d680@2889.calovo
CATEGORIES:Liverpool
CREATED:20250921T090340
SUMMARY:Inter Mailand 0:1 (0:0) LIV
LOCATION:calovo.de | Giuseppe Meazza (Stadion)\, Mailand\, Italien
DESCRIPTION:Inter Mailand 0:1 (0:0) Liverpool FC\n\nInter Mailand:\nSommer, Bastoni, Ac
 erbi (31. Bisseck), Akanji, Dimarco (83. Carlos Augusto), Mkhitaryan (82. S
 učić), Çalhanoğlu (11. Zieliński), Barella, Luis Henrique, Martínez, Thuram
  (83. Bonny)\n\nLiverpool FC:\nAlisson Becker, Robertson, van Dijk, Konaté,
  Gomez (68. Bradley), Mac Allister, Gravenberch, Szoboszlai, Ekitiké, Isak 
 (68. Wirtz), Jones\n\nTore:\n0:1 Szoboszlai (88.)\n\nAKTUELLE NEWS VON SPOR
 T.DE\n\n 	* Salah-Hammer beim FC Bayern? Eberl reagiert http://www.sport.de
 /n/RXUmaE3d/ (http://www.sport.de/n/RXUmaE3d/) \n\n \n\n\n\n\nAnbieter-Impr
 essum: http://calovo.de/impressum (http://calovo.de/impressum)\n\n\ncalovo 
 Kalender löschen? Anleitung: termine.de/ical/loeschen
X-ALT-DESC;FMTTYPE=text/html:Inter Mailand 0:1 (0:0) Liverpool FC<br/><br/>Inter Mailand:<br/>Sommer, Ba
 stoni, Acerbi (31. Bisseck), Akanji, Dimarco (83. Carlos Augusto), Mkhitary
 an (82. Sučić), Çalhanoğlu (11. Zieliński), Barella, Luis Henrique, Martíne
 z, Thuram (83. Bonny)<br/><br/>Liverpool FC:<br/>Alisson Becker, Robertson,
  van Dijk, Konaté, Gomez (68. Bradley), Mac Allister, Gravenberch, Szoboszl
 ai, Ekitiké, Isak (68. Wirtz), Jones<br/><br/>Tore:<br/>0:1 Szoboszlai (88.
 )<br/><br/>AKTUELLE NEWS VON SPORT.DE<br/><br/> 	* Salah-Hammer beim FC Bay
 ern? Eberl reagiert <a href="http://www.sport.de/n/RXUmaE3d/">http://www.sp
 ort.de/n/RXUmaE3d/</a> <br/><br/> <br/><br/><br/><br/><br/>Anbieter-Impress
 um: <a href="http://calovo.de/impressum">http://calovo.de/impressum</a><br/
 ><br/><br/>calovo Kalender löschen? Anleitung: termine.de/ical/loeschen
DTSTAMP:20260422T194438
DTSTART;TZID=Europe/Berlin:20251209T210000
DTEND;TZID=Europe/Berlin:20251209T230000
SEQUENCE:0
TRANSP:OPAQUE
END:VEVENT
END:VCALENDAR