BEGIN:VCALENDAR
VERSION:2.0
PRODID:-//jEvents 2.0 for Joomla//EN
CALSCALE:GREGORIAN
METHOD:PUBLISH
BEGIN:VTIMEZONE
TZID:Europe/Berlin
BEGIN:STANDARD
DTSTART:20250120T210000
RDATE:20250330T030000
TZOFFSETFROM:+0200
TZOFFSETTO:+0100
TZNAME:Europe/Berlin CET
END:STANDARD
BEGIN:STANDARD
DTSTART:20251026T020000
RDATE:20260329T030000
TZOFFSETFROM:+0200
TZOFFSETTO:+0100
TZNAME:Europe/Berlin CET
END:STANDARD
BEGIN:DAYLIGHT
DTSTART:20250330T030000
RDATE:20251026T020000
TZOFFSETFROM:+0100
TZOFFSETTO:+0200
TZNAME:Europe/Berlin CEST
END:DAYLIGHT
END:VTIMEZONE
BEGIN:VEVENT
UID:68b3d72c4e1d1@2889.calovo
CATEGORIES:Liverpool
CREATED:20250921T090340
SUMMARY:Olympique Marseille 0:3 (0:1) LIV
LOCATION:calovo.de | Vélodrome (Stadion)\, Marseille\, Frankreich
DESCRIPTION:Olympique Marseille 0:3 (0:1) Liverpool FC\n\nOlympique Marseille:\nRulli, 
 Medina, Balerdi, Pavard, Weah, Kondogbia (68. Nadir), Højbjerg, Murillo, Tr
 aorè (68. Igor Paixão), Greenwood, Gouiri (67. Aubameyang)\n\nLiverpool FC:
 \nAlisson Becker, Kerkez, van Dijk, Gomez, Frimpong, Mac Allister, Gravenbe
 rch, Wirtz (79. Jones), Szoboszlai, Salah, Ekitiké (79. Gakpo)\n\nTore:\n0:
 1 Szoboszlai (45.)\n0:2 Rulli (72.)\n0:3 Gakpo (90.)\n\nAKTUELLE NEWS VON S
 PORT.DE\n\n 	* Slot kontert Frage nach Alonso mit Humor http://www.sport.de
 /n/9BUkLKXj/ (http://www.sport.de/n/9BUkLKXj/) \n\n \n\n\n\n\nAnbieter-Impr
 essum: http://calovo.de/impressum (http://calovo.de/impressum)\n\n\ncalovo 
 Kalender löschen? Anleitung: termine.de/ical/loeschen
X-ALT-DESC;FMTTYPE=text/html:Olympique Marseille 0:3 (0:1) Liverpool FC<br/><br/>Olympique Marseille:<br
 />Rulli, Medina, Balerdi, Pavard, Weah, Kondogbia (68. Nadir), Højbjerg, Mu
 rillo, Traorè (68. Igor Paixão), Greenwood, Gouiri (67. Aubameyang)<br/><br
 />Liverpool FC:<br/>Alisson Becker, Kerkez, van Dijk, Gomez, Frimpong, Mac 
 Allister, Gravenberch, Wirtz (79. Jones), Szoboszlai, Salah, Ekitiké (79. G
 akpo)<br/><br/>Tore:<br/>0:1 Szoboszlai (45.)<br/>0:2 Rulli (72.)<br/>0:3 G
 akpo (90.)<br/><br/>AKTUELLE NEWS VON SPORT.DE<br/><br/> 	* Slot kontert Fr
 age nach Alonso mit Humor <a href="http://www.sport.de/n/9BUkLKXj/">http://
 www.sport.de/n/9BUkLKXj/</a> <br/><br/> <br/><br/><br/><br/><br/>Anbieter-I
 mpressum: <a href="http://calovo.de/impressum">http://calovo.de/impressum</
 a><br/><br/><br/>calovo Kalender löschen? Anleitung: termine.de/ical/loesch
 en
DTSTAMP:20260422T180154
DTSTART;TZID=Europe/Berlin:20260121T210000
DTEND;TZID=Europe/Berlin:20260121T230000
SEQUENCE:0
TRANSP:OPAQUE
END:VEVENT
END:VCALENDAR