BEGIN:VCALENDAR
VERSION:2.0
PRODID:-//jEvents 2.0 for Joomla//EN
CALSCALE:GREGORIAN
METHOD:PUBLISH
BEGIN:VTIMEZONE
TZID:Europe/Berlin
BEGIN:STANDARD
DTSTART:20250127T210000
RDATE:20250330T030000
TZOFFSETFROM:+0200
TZOFFSETTO:+0100
TZNAME:Europe/Berlin CET
END:STANDARD
BEGIN:STANDARD
DTSTART:20251026T020000
RDATE:20260329T030000
TZOFFSETFROM:+0200
TZOFFSETTO:+0100
TZNAME:Europe/Berlin CET
END:STANDARD
BEGIN:DAYLIGHT
DTSTART:20250330T030000
RDATE:20251026T020000
TZOFFSETFROM:+0100
TZOFFSETTO:+0200
TZNAME:Europe/Berlin CEST
END:DAYLIGHT
END:VTIMEZONE
BEGIN:VEVENT
UID:68b3d72e2ad5d@2889.calovo
CATEGORIES:Liverpool
CREATED:20250921T090340
SUMMARY:LIV 6:0 (2:0) Qarabağ FK
LOCATION:calovo.de | Anfield (Stadion)\, Liverpool\, England
DESCRIPTION:Liverpool FC 6:0 (2:0) Qarabağ FK\n\nLiverpool FC:\nAlisson Becker, Roberts
 on, van Dijk, Gravenberch, Frimpong (4. Endō), Mac Allister, Szoboszlai (75
 . Nallo), Gakpo (74. Chiesa), Wirtz (67. Ngumoha), Salah, Ekitiké (67. Nyon
 i)\n\nQarabağ FK:\nKochalski, Cəfərquliyev (67. Bayramov), Medina, Mustafaz
 adə, Matheus Silva, Janković, Pedro Bicalho, Zoubir (81. Addai), Joni Monti
 el (85. Qurbanli), Leandro Andrade (67. Dani Bolt), Durán (68. Axundzadə)\n
 \nTore:\n1:0 Mac Allister (15.)\n2:0 Wirtz (21.)\n3:0 Salah (50.)\n4:0 Ekit
 iké (57.)\n5:0 Mac Allister (61.)\n6:0 Chiesa (90.)\n\nAKTUELLE NEWS VON SP
 ORT.DE\n\n 	* Trainer-Hammer? FC Liverpool kontaktiert wohl Xabi Alonso htt
 p://www.sport.de/n/xPUKamb6/ (http://www.sport.de/n/xPUKamb6/) \n\n \n\n\n\
 n\nAnbieter-Impressum: http://calovo.de/impressum (http://calovo.de/impress
 um)\n\n\ncalovo Kalender löschen? Anleitung: termine.de/ical/loeschen
X-ALT-DESC;FMTTYPE=text/html:Liverpool FC 6:0 (2:0) Qarabağ FK<br/><br/>Liverpool FC:<br/>Alisson Becker
 , Robertson, van Dijk, Gravenberch, Frimpong (4. Endō), Mac Allister, Szobo
 szlai (75. Nallo), Gakpo (74. Chiesa), Wirtz (67. Ngumoha), Salah, Ekitiké 
 (67. Nyoni)<br/><br/>Qarabağ FK:<br/>Kochalski, Cəfərquliyev (67. Bayramov)
 , Medina, Mustafazadə, Matheus Silva, Janković, Pedro Bicalho, Zoubir (81. 
 Addai), Joni Montiel (85. Qurbanli), Leandro Andrade (67. Dani Bolt), Durán
  (68. Axundzadə)<br/><br/>Tore:<br/>1:0 Mac Allister (15.)<br/>2:0 Wirtz (2
 1.)<br/>3:0 Salah (50.)<br/>4:0 Ekitiké (57.)<br/>5:0 Mac Allister (61.)<br
 />6:0 Chiesa (90.)<br/><br/>AKTUELLE NEWS VON SPORT.DE<br/><br/> 	* Trainer
 -Hammer? FC Liverpool kontaktiert wohl Xabi Alonso <a href="http://www.spor
 t.de/n/xPUKamb6/">http://www.sport.de/n/xPUKamb6/</a> <br/><br/> <br/><br/>
 <br/><br/><br/>Anbieter-Impressum: <a href="http://calovo.de/impressum">htt
 p://calovo.de/impressum</a><br/><br/><br/>calovo Kalender löschen? Anleitun
 g: termine.de/ical/loeschen
DTSTAMP:20260422T180033
DTSTART;TZID=Europe/Berlin:20260128T210000
DTEND;TZID=Europe/Berlin:20260128T230000
SEQUENCE:0
TRANSP:OPAQUE
END:VEVENT
END:VCALENDAR