BEGIN:VCALENDAR
VERSION:2.0
PRODID:-//jEvents 2.0 for Joomla//EN
CALSCALE:GREGORIAN
METHOD:PUBLISH
BEGIN:VTIMEZONE
TZID:Europe/Berlin
BEGIN:STANDARD
DTSTART:20241027T020000
RDATE:20250330T030000
TZOFFSETFROM:+0200
TZOFFSETTO:+0100
TZNAME:Europe/Berlin CET
END:STANDARD
BEGIN:STANDARD
DTSTART:20251026T020000
RDATE:20260329T030000
TZOFFSETFROM:+0200
TZOFFSETTO:+0100
TZNAME:Europe/Berlin CET
END:STANDARD
BEGIN:DAYLIGHT
DTSTART:20240418T140000
RDATE:20241027T020000
TZOFFSETFROM:+0100
TZOFFSETTO:+0200
TZNAME:Europe/Berlin CEST
END:DAYLIGHT
BEGIN:DAYLIGHT
DTSTART:20250330T030000
RDATE:20251026T020000
TZOFFSETFROM:+0100
TZOFFSETTO:+0200
TZNAME:Europe/Berlin CEST
END:DAYLIGHT
END:VTIMEZONE
BEGIN:VEVENT
UID:66935bb103acc@82.calovo
CATEGORIES:TSV 1860 München
CREATED:20250921T100502
SUMMARY:M60 2:1 (1:0) Alemannia Aachen
LOCATION:calovo.de | Stadion an der Grünwalder Straße (Stadion)\, München\, Deutschl
 and
DESCRIPTION:TSV 1860 München 2:1 (1:0) Alemannia Aachen<br/><br/>TSV 1860 München:<br/>
 Jacobsen, Verlaat, Kwadwo, Hiller, Guttau (86. Kloss), Abiama, Danhof, Kozu
 ki (63. Maier), Hobsch (69. Philipp), Deniz (63. Wolfram), Dulic<br/><br/>A
 lemannia Aachen:<br/>Bahn (46. Bakhat), Gaudino (90. Beleme), Wiebe, Heiste
 r (46. Benschop), Goden (84. Heinz), Hanraths, Olschowsky, Yarbrough (16. S
 trujić), Meyer, El-Faouzi, Nkoa<br/><br/>Tore:<br/>1:0 Abiama (39.)<br/>1:1
  Bakhat (49.)<br/>2:1 Philipp (89.)<br/><br/><br/><br/><br/><br/>Anbieter-I
 mpressum: <a href="https://calovo.de/impressum">https://calovo.de/impressum
 </a><br/><br/><br/>calovo Kalender löschen? Anleitung: termine.de/ical/loes
 chen
DTSTAMP:20260422T213030
DTSTART;TZID=Europe/Berlin:20250419T140000
DTEND;TZID=Europe/Berlin:20250419T160000
SEQUENCE:0
TRANSP:OPAQUE
END:VEVENT
END:VCALENDAR