BEGIN:VCALENDAR
VERSION:2.0
PRODID:-//jEvents 2.0 for Joomla//EN
CALSCALE:GREGORIAN
METHOD:PUBLISH
BEGIN:VTIMEZONE
TZID:Europe/Berlin
BEGIN:STANDARD
DTSTART:20241027T020000
RDATE:20250330T030000
TZOFFSETFROM:+0200
TZOFFSETTO:+0100
TZNAME:Europe/Berlin CET
END:STANDARD
BEGIN:STANDARD
DTSTART:20251026T020000
RDATE:20260329T030000
TZOFFSETFROM:+0200
TZOFFSETTO:+0100
TZNAME:Europe/Berlin CET
END:STANDARD
BEGIN:DAYLIGHT
DTSTART:20240424T190000
RDATE:20241027T020000
TZOFFSETFROM:+0100
TZOFFSETTO:+0200
TZNAME:Europe/Berlin CEST
END:DAYLIGHT
BEGIN:DAYLIGHT
DTSTART:20250330T030000
RDATE:20251026T020000
TZOFFSETFROM:+0100
TZOFFSETTO:+0200
TZNAME:Europe/Berlin CEST
END:DAYLIGHT
END:VTIMEZONE
BEGIN:VEVENT
UID:66935bb34978e@82.calovo
CATEGORIES:TSV 1860 München
CREATED:20250921T100502
SUMMARY:Hansa Rostock 1:0 (0:0) M60
LOCATION:calovo.de | Ostseestadion (Stadion)\, Rostock\, Deutschland
DESCRIPTION:Hansa Rostock 1:0 (0:0) TSV 1860 München<br/><br/>Hansa Rostock:<br/>Uphoff
 , Pfanne, Schuster, Rossipal, Gürleyen, Kinsombi (84. Harenbrock), Lebeau (
 84. Suso), Ruschke, Dietze (90. Gebuhr), Mejdr, Haugen (72. Krohn)<br/><br/
 >TSV 1860 München:<br/>Jacobsen, Verlaat, Lucoqui (83. Gevorgyan), Hiller, 
 Guttau, Danhof (46. Reich), Hobsch (66. Wolfram), Abiama, Deniz (66. Frey),
  Kozuki (66. Kwadwo), Dulic<br/><br/>Tore:<br/>1:0 Ruschke (48.)<br/><br/><
 br/><br/><br/><br/>Anbieter-Impressum: <a href="https://calovo.de/impressum
 ">https://calovo.de/impressum</a><br/><br/><br/>calovo Kalender löschen? An
 leitung: termine.de/ical/loeschen
DTSTAMP:20260422T230943
DTSTART;TZID=Europe/Berlin:20250425T190000
DTEND;TZID=Europe/Berlin:20250425T210000
SEQUENCE:0
TRANSP:OPAQUE
END:VEVENT
END:VCALENDAR