BEGIN:VCALENDAR
VERSION:2.0
PRODID:-//jEvents 2.0 for Joomla//EN
CALSCALE:GREGORIAN
METHOD:PUBLISH
BEGIN:VTIMEZONE
TZID:Europe/Berlin
BEGIN:STANDARD
DTSTART:20241027T020000
RDATE:20250330T030000
TZOFFSETFROM:+0200
TZOFFSETTO:+0100
TZNAME:Europe/Berlin CET
END:STANDARD
BEGIN:STANDARD
DTSTART:20251026T020000
RDATE:20260329T030000
TZOFFSETFROM:+0200
TZOFFSETTO:+0100
TZNAME:Europe/Berlin CET
END:STANDARD
BEGIN:DAYLIGHT
DTSTART:20240502T140000
RDATE:20241027T020000
TZOFFSETFROM:+0100
TZOFFSETTO:+0200
TZNAME:Europe/Berlin CEST
END:DAYLIGHT
BEGIN:DAYLIGHT
DTSTART:20250330T030000
RDATE:20251026T020000
TZOFFSETFROM:+0100
TZOFFSETTO:+0200
TZNAME:Europe/Berlin CEST
END:DAYLIGHT
END:VTIMEZONE
BEGIN:VEVENT
UID:66935bb35f7dc@82.calovo
CATEGORIES:TSV 1860 München
CREATED:20250921T100502
SUMMARY:M60 1:3 (0:0) Rot-Weiss Essen
LOCATION:calovo.de | Stadion an der Grünwalder Straße (Stadion)\, München\, Deutschl
 and
DESCRIPTION:TSV 1860 München 1:3 (0:0) Rot-Weiss Essen\n\nTSV 1860 München:\nHiller, Ma
 ier (76. Schifferl), Verlaat, Wolfram (66. Kozuki), Lucoqui (76. Reich), Gu
 ttau, Hobsch, Abiama, Danhof (89. Ott), Deniz (66. Philipp), Dulic\n\nRot-W
 eiss Essen:\nSchultz, Gjasula, Arslan (83. Voufack), Kraulich, Müsel (67. M
 izuta), Brumme, Ríos-Alonso, Wienand, Eitschberger (90. Aninkorah-Meisel), 
 Safi (83. Martinovic), Moustier (90. Kaparos)\n\nTore:\n0:1 Müsel (65.)\n0:
 2 Mizuta (69.)\n1:2 Verlaat (78.)\n1:3 Safi (82.)\n\n\n\n\n\nAnbieter-Impre
 ssum: https://calovo.de/impressum (https://calovo.de/impressum)\n\n\ncalovo
  Kalender löschen? Anleitung: termine.de/ical/loeschen
X-ALT-DESC;FMTTYPE=text/html:TSV 1860 München 1:3 (0:0) Rot-Weiss Essen<br/><br/>TSV 1860 München:<br/>H
 iller, Maier (76. Schifferl), Verlaat, Wolfram (66. Kozuki), Lucoqui (76. R
 eich), Guttau, Hobsch, Abiama, Danhof (89. Ott), Deniz (66. Philipp), Dulic
 <br/><br/>Rot-Weiss Essen:<br/>Schultz, Gjasula, Arslan (83. Voufack), Krau
 lich, Müsel (67. Mizuta), Brumme, Ríos-Alonso, Wienand, Eitschberger (90. A
 ninkorah-Meisel), Safi (83. Martinovic), Moustier (90. Kaparos)<br/><br/>To
 re:<br/>0:1 Müsel (65.)<br/>0:2 Mizuta (69.)<br/>1:2 Verlaat (78.)<br/>1:3 
 Safi (82.)<br/><br/><br/><br/><br/><br/>Anbieter-Impressum: <a href="https:
 //calovo.de/impressum">https://calovo.de/impressum</a><br/><br/><br/>calovo
  Kalender löschen? Anleitung: termine.de/ical/loeschen
DTSTAMP:20260422T230047
DTSTART;TZID=Europe/Berlin:20250503T140000
DTEND;TZID=Europe/Berlin:20250503T160000
SEQUENCE:0
TRANSP:OPAQUE
END:VEVENT
END:VCALENDAR