BEGIN:VCALENDAR
VERSION:2.0
PRODID:-//jEvents 2.0 for Joomla//EN
CALSCALE:GREGORIAN
METHOD:PUBLISH
BEGIN:VTIMEZONE
TZID:Europe/Berlin
BEGIN:STANDARD
DTSTART:20241027T020000
RDATE:20250330T030000
TZOFFSETFROM:+0200
TZOFFSETTO:+0100
TZNAME:Europe/Berlin CET
END:STANDARD
BEGIN:STANDARD
DTSTART:20251026T020000
RDATE:20260329T030000
TZOFFSETFROM:+0200
TZOFFSETTO:+0100
TZNAME:Europe/Berlin CET
END:STANDARD
BEGIN:DAYLIGHT
DTSTART:20240509T140000
RDATE:20241027T020000
TZOFFSETFROM:+0100
TZOFFSETTO:+0200
TZNAME:Europe/Berlin CEST
END:DAYLIGHT
BEGIN:DAYLIGHT
DTSTART:20250330T030000
RDATE:20251026T020000
TZOFFSETFROM:+0100
TZOFFSETTO:+0200
TZNAME:Europe/Berlin CEST
END:DAYLIGHT
END:VTIMEZONE
BEGIN:VEVENT
UID:66935bb75e50f@82.calovo
CATEGORIES:TSV 1860 München
CREATED:20250921T100502
SUMMARY:SC Verl 2:2 (0:1) M60
LOCATION:calovo.de | SPORTCLUB Arena (Stadion)\, Verl\, Deutschland
DESCRIPTION:SC Verl 2:2 (0:1) TSV 1860 München\n\nSC Verl:\nKijewski, Baack, Kammerbaue
 r (82. Mhamdi), Lokotsch (90. Gerhardt), Taz, Benger (82. Stark), Mikic (69
 . Stöcker), Schulze, Steczyk, Gayret, Köhler (46. Otto)\n\nTSV 1860 München
 :\nJacobsen, Verlaat, Wolfram (85. Erdogan), Hiller, Guttau, Philipp (62. H
 obsch), Abiama (78. Kozuki), Danhof, Reich, Deniz (62. Frey), Dulic (85. Sc
 hifferl)\n\nTore:\n0:1 Guttau (14.)\n1:1 Otto (48.)\n2:1 Lokotsch (77.)\n2:
 2 Kozuki (90.)\n\n\n\n\n\nAnbieter-Impressum: https://calovo.de/impressum (
 https://calovo.de/impressum)\n\n\ncalovo Kalender löschen? Anleitung: termi
 ne.de/ical/loeschen
X-ALT-DESC;FMTTYPE=text/html:SC Verl 2:2 (0:1) TSV 1860 München<br/><br/>SC Verl:<br/>Kijewski, Baack, K
 ammerbauer (82. Mhamdi), Lokotsch (90. Gerhardt), Taz, Benger (82. Stark), 
 Mikic (69. Stöcker), Schulze, Steczyk, Gayret, Köhler (46. Otto)<br/><br/>T
 SV 1860 München:<br/>Jacobsen, Verlaat, Wolfram (85. Erdogan), Hiller, Gutt
 au, Philipp (62. Hobsch), Abiama (78. Kozuki), Danhof, Reich, Deniz (62. Fr
 ey), Dulic (85. Schifferl)<br/><br/>Tore:<br/>0:1 Guttau (14.)<br/>1:1 Otto
  (48.)<br/>2:1 Lokotsch (77.)<br/>2:2 Kozuki (90.)<br/><br/><br/><br/><br/>
 <br/>Anbieter-Impressum: <a href="https://calovo.de/impressum">https://calo
 vo.de/impressum</a><br/><br/><br/>calovo Kalender löschen? Anleitung: termi
 ne.de/ical/loeschen
DTSTAMP:20260422T194440
DTSTART;TZID=Europe/Berlin:20250510T140000
DTEND;TZID=Europe/Berlin:20250510T160000
SEQUENCE:0
TRANSP:OPAQUE
END:VEVENT
END:VCALENDAR