BEGIN:VCALENDAR
VERSION:2.0
PRODID:-//jEvents 2.0 for Joomla//EN
CALSCALE:GREGORIAN
METHOD:PUBLISH
BEGIN:VTIMEZONE
TZID:Europe/Berlin
BEGIN:STANDARD
DTSTART:20241027T020000
RDATE:20250330T030000
TZOFFSETFROM:+0200
TZOFFSETTO:+0100
TZNAME:Europe/Berlin CET
END:STANDARD
BEGIN:STANDARD
DTSTART:20251026T020000
RDATE:20260329T030000
TZOFFSETFROM:+0200
TZOFFSETTO:+0100
TZNAME:Europe/Berlin CET
END:STANDARD
BEGIN:DAYLIGHT
DTSTART:20240516T133000
RDATE:20241027T020000
TZOFFSETFROM:+0100
TZOFFSETTO:+0200
TZNAME:Europe/Berlin CEST
END:DAYLIGHT
BEGIN:DAYLIGHT
DTSTART:20250330T030000
RDATE:20251026T020000
TZOFFSETFROM:+0100
TZOFFSETTO:+0200
TZNAME:Europe/Berlin CEST
END:DAYLIGHT
END:VTIMEZONE
BEGIN:VEVENT
UID:66935bb776f1d@82.calovo
CATEGORIES:TSV 1860 München
CREATED:20250921T100502
SUMMARY:M60 1:1 (0:1) Erzgebirge Aue
LOCATION:calovo.de | Stadion an der Grünwalder Straße (Stadion)\, München\, Deutschl
 and
DESCRIPTION:TSV 1860 München 1:1 (0:1) Erzgebirge Aue\n\nTSV 1860 München:\nJacobsen, V
 erlaat, Kwadwo, Hiller, Guttau (71. Philipp), Hobsch, Schifferl, Abiama (80
 . Ott), Danhof (46. Reich), Deniz, Kozuki (71. Wolfram)\n\nErzgebirge Aue:\
 nPepić, Majetschak, Seitz (77. Kallenbach), Sijarić (63. Vukančić), Uhlig, 
 Stefaniak, Nkansah, Jakob (63. Schimkus), Fabisch, Rosenlöcher, Fallmann (7
 7. Seidel)\n\nTore:\n0:1 Seitz (2.)\n1:1 Jacobsen (52.)\n\n\n\n\n\nAnbieter
 -Impressum: https://calovo.de/impressum (https://calovo.de/impressum)\n\n\n
 calovo Kalender löschen? Anleitung: termine.de/ical/loeschen
X-ALT-DESC;FMTTYPE=text/html:TSV 1860 München 1:1 (0:1) Erzgebirge Aue<br/><br/>TSV 1860 München:<br/>Ja
 cobsen, Verlaat, Kwadwo, Hiller, Guttau (71. Philipp), Hobsch, Schifferl, A
 biama (80. Ott), Danhof (46. Reich), Deniz, Kozuki (71. Wolfram)<br/><br/>E
 rzgebirge Aue:<br/>Pepić, Majetschak, Seitz (77. Kallenbach), Sijarić (63. 
 Vukančić), Uhlig, Stefaniak, Nkansah, Jakob (63. Schimkus), Fabisch, Rosenl
 öcher, Fallmann (77. Seidel)<br/><br/>Tore:<br/>0:1 Seitz (2.)<br/>1:1 Jaco
 bsen (52.)<br/><br/><br/><br/><br/><br/>Anbieter-Impressum: <a href="https:
 //calovo.de/impressum">https://calovo.de/impressum</a><br/><br/><br/>calovo
  Kalender löschen? Anleitung: termine.de/ical/loeschen
DTSTAMP:20260422T230701
DTSTART;TZID=Europe/Berlin:20250517T133000
DTEND;TZID=Europe/Berlin:20250517T153000
SEQUENCE:0
TRANSP:OPAQUE
END:VEVENT
END:VCALENDAR