BEGIN:VCALENDAR
VERSION:2.0
PRODID:-//jEvents 2.0 for Joomla//EN
CALSCALE:GREGORIAN
METHOD:PUBLISH
BEGIN:VTIMEZONE
TZID:Europe/Berlin
BEGIN:STANDARD
DTSTART:20241027T020000
RDATE:20250330T030000
TZOFFSETFROM:+0200
TZOFFSETTO:+0100
TZNAME:Europe/Berlin CET
END:STANDARD
BEGIN:STANDARD
DTSTART:20251026T020000
RDATE:20260329T030000
TZOFFSETFROM:+0200
TZOFFSETTO:+0100
TZNAME:Europe/Berlin CET
END:STANDARD
BEGIN:DAYLIGHT
DTSTART:20240731T190000
RDATE:20241027T020000
TZOFFSETFROM:+0100
TZOFFSETTO:+0200
TZNAME:Europe/Berlin CEST
END:DAYLIGHT
BEGIN:DAYLIGHT
DTSTART:20250330T030000
RDATE:20251026T020000
TZOFFSETFROM:+0100
TZOFFSETTO:+0200
TZNAME:Europe/Berlin CEST
END:DAYLIGHT
END:VTIMEZONE
BEGIN:VEVENT
UID:6867de7ca4f89@82.calovo
CATEGORIES:TSV 1860 München
CREATED:20250921T100502
SUMMARY:Rot-Weiss Essen 1:1 (1:0) M60
LOCATION:calovo.de | Stadion an der Hafenstraße (Stadion)\, Essen\, Deutschland
DESCRIPTION:Rot-Weiss Essen 1:1 (1:0) TSV 1860 München\n\nRot-Weiss Essen:\nSchultz, Gj
 asula, Arslan (87. Obuz), Kraulich, Ríos-Alonso, Wienand, Mizuta (66. Müsel
 ), Hofmann, Safi (81. Martinovic), Moustier, Bouebari (81. Brumme)\n\nTSV 1
 860 München:\nVolland (81. Hobsch), Niederlechner (90. Wolfram), Dähne, Jac
 obsen, Verlaat, Danhof, Deniz, Dulic, Haugen (64. Philipp), Pfeifer (81. Ja
 kob), Voet\n\nTore:\n1:0 Ríos-Alonso (7.)\n1:1 Niederlechner (68.)\n\n\n\n\
 n\nAnbieter-Impressum: https://calovo.de/impressum (https://calovo.de/impre
 ssum)\n\n\ncalovo Kalender löschen? Anleitung: termine.de/ical/loeschen
X-ALT-DESC;FMTTYPE=text/html:Rot-Weiss Essen 1:1 (1:0) TSV 1860 München<br/><br/>Rot-Weiss Essen:<br/>Sc
 hultz, Gjasula, Arslan (87. Obuz), Kraulich, Ríos-Alonso, Wienand, Mizuta (
 66. Müsel), Hofmann, Safi (81. Martinovic), Moustier, Bouebari (81. Brumme)
 <br/><br/>TSV 1860 München:<br/>Volland (81. Hobsch), Niederlechner (90. Wo
 lfram), Dähne, Jacobsen, Verlaat, Danhof, Deniz, Dulic, Haugen (64. Philipp
 ), Pfeifer (81. Jakob), Voet<br/><br/>Tore:<br/>1:0 Ríos-Alonso (7.)<br/>1:
 1 Niederlechner (68.)<br/><br/><br/><br/><br/><br/>Anbieter-Impressum: <a h
 ref="https://calovo.de/impressum">https://calovo.de/impressum</a><br/><br/>
 <br/>calovo Kalender löschen? Anleitung: termine.de/ical/loeschen
DTSTAMP:20260422T194440
DTSTART;TZID=Europe/Berlin:20250801T190000
DTEND;TZID=Europe/Berlin:20250801T210000
SEQUENCE:0
TRANSP:OPAQUE
END:VEVENT
END:VCALENDAR