BEGIN:VCALENDAR
VERSION:2.0
PRODID:-//jEvents 2.0 for Joomla//EN
CALSCALE:GREGORIAN
METHOD:PUBLISH
BEGIN:VTIMEZONE
TZID:Europe/Berlin
BEGIN:STANDARD
DTSTART:20241027T020000
RDATE:20250330T030000
TZOFFSETFROM:+0200
TZOFFSETTO:+0100
TZNAME:Europe/Berlin CET
END:STANDARD
BEGIN:STANDARD
DTSTART:20251026T020000
RDATE:20260329T030000
TZOFFSETFROM:+0200
TZOFFSETTO:+0100
TZNAME:Europe/Berlin CET
END:STANDARD
BEGIN:DAYLIGHT
DTSTART:20240808T140000
RDATE:20241027T020000
TZOFFSETFROM:+0100
TZOFFSETTO:+0200
TZNAME:Europe/Berlin CEST
END:DAYLIGHT
BEGIN:DAYLIGHT
DTSTART:20250330T030000
RDATE:20251026T020000
TZOFFSETFROM:+0100
TZOFFSETTO:+0200
TZNAME:Europe/Berlin CEST
END:DAYLIGHT
END:VTIMEZONE
BEGIN:VEVENT
UID:6867de802a7ec@82.calovo
CATEGORIES:TSV 1860 München
CREATED:20250921T100502
SUMMARY:M60 3:1 (2:0) VfL Osnabrück
LOCATION:calovo.de | Stadion an der Grünwalder Straße (Stadion)\, München\, Deutschl
 and
DESCRIPTION:TSV 1860 München 3:1 (2:0) VfL Osnabrück<br/><br/>TSV 1860 München:<br/>Vol
 land (72. Philipp), Niederlechner (82. Hobsch), Dähne, Jacobsen (82. Christ
 iansen), Verlaat, Danhof, Deniz, Dulic, Haugen (72. Kozuki), Pfeifer (90. J
 akob), Voet<br/><br/>VfL Osnabrück:<br/>Müller, Henning (85. Lesueur), Wiem
 ann, Kehl, Karademir (55. Fabinski), Riesselmann (67. Ihorst), Jonsson, Chr
 istensen (67. Schumacher), Kammerbauer, Wagner, Kopacz (46. Jacobsen)<br/><
 br/>Tore:<br/>1:0 Volland (10.)<br/>2:0 Niederlechner (41.)<br/>3:0 Haugen 
 (52.)<br/>3:1 Kammerbauer (75.)<br/><br/><br/><br/><br/><br/>Anbieter-Impre
 ssum: <a href="https://calovo.de/impressum">https://calovo.de/impressum</a>
 <br/><br/><br/>calovo Kalender löschen? Anleitung: termine.de/ical/loeschen
DTSTAMP:20260422T194534
DTSTART;TZID=Europe/Berlin:20250809T140000
DTEND;TZID=Europe/Berlin:20250809T160000
SEQUENCE:0
TRANSP:OPAQUE
END:VEVENT
END:VCALENDAR