BEGIN:VCALENDAR
VERSION:2.0
PRODID:-//jEvents 2.0 for Joomla//EN
CALSCALE:GREGORIAN
METHOD:PUBLISH
BEGIN:VTIMEZONE
TZID:Europe/Berlin
BEGIN:STANDARD
DTSTART:20241027T020000
RDATE:20250330T030000
TZOFFSETFROM:+0200
TZOFFSETTO:+0100
TZNAME:Europe/Berlin CET
END:STANDARD
BEGIN:STANDARD
DTSTART:20251026T020000
RDATE:20260329T030000
TZOFFSETFROM:+0200
TZOFFSETTO:+0100
TZNAME:Europe/Berlin CET
END:STANDARD
BEGIN:DAYLIGHT
DTSTART:20240822T140000
RDATE:20241027T020000
TZOFFSETFROM:+0100
TZOFFSETTO:+0200
TZNAME:Europe/Berlin CEST
END:DAYLIGHT
BEGIN:DAYLIGHT
DTSTART:20250330T030000
RDATE:20251026T020000
TZOFFSETFROM:+0100
TZOFFSETTO:+0200
TZNAME:Europe/Berlin CEST
END:DAYLIGHT
END:VTIMEZONE
BEGIN:VEVENT
UID:6867de8256182@82.calovo
CATEGORIES:TSV 1860 München
CREATED:20250921T100502
SUMMARY:Alemannia Aachen 0:2 (0:0) M60
LOCATION:calovo.de | Tivoli (Stadion)\, Aachen\, Deutschland
DESCRIPTION:Alemannia Aachen 0:2 (0:0) TSV 1860 München\n\nAlemannia Aachen:\nGaudino, 
 Lorch (90. Elekwa), Wiebe, Scepanik, Olschowsky, Meyer, Torsiello (75. Wrie
 dt), da Silva Kiala, Wagner (75. Strujić), Ademi, Richter (75. Nadjombe)\n\
 nTSV 1860 München:\nVolland, Niederlechner (74. Hobsch), Dähne, Jacobsen, V
 erlaat, Danhof (67. Wolfram), Deniz (86. Christiansen), Dulic, Haugen (67. 
 Philipp), Pfeifer (86. Jakob), Voet\n\nTore:\n0:1 Hobsch (89.)\n0:2 Philipp
  (90.)\n\n\n\n\n\nAnbieter-Impressum: https://calovo.de/impressum (https://
 calovo.de/impressum)\n\n\ncalovo Kalender löschen? Anleitung: termine.de/ic
 al/loeschen
X-ALT-DESC;FMTTYPE=text/html:Alemannia Aachen 0:2 (0:0) TSV 1860 München<br/><br/>Alemannia Aachen:<br/>
 Gaudino, Lorch (90. Elekwa), Wiebe, Scepanik, Olschowsky, Meyer, Torsiello 
 (75. Wriedt), da Silva Kiala, Wagner (75. Strujić), Ademi, Richter (75. Nad
 jombe)<br/><br/>TSV 1860 München:<br/>Volland, Niederlechner (74. Hobsch), 
 Dähne, Jacobsen, Verlaat, Danhof (67. Wolfram), Deniz (86. Christiansen), D
 ulic, Haugen (67. Philipp), Pfeifer (86. Jakob), Voet<br/><br/>Tore:<br/>0:
 1 Hobsch (89.)<br/>0:2 Philipp (90.)<br/><br/><br/><br/><br/><br/>Anbieter-
 Impressum: <a href="https://calovo.de/impressum">https://calovo.de/impressu
 m</a><br/><br/><br/>calovo Kalender löschen? Anleitung: termine.de/ical/loe
 schen
DTSTAMP:20260422T212903
DTSTART;TZID=Europe/Berlin:20250823T140000
DTEND;TZID=Europe/Berlin:20250823T160000
SEQUENCE:0
TRANSP:OPAQUE
END:VEVENT
END:VCALENDAR